BEGIN:VCALENDAR
VERSION:2.0
PRODID:-//wp-events-plugin.com//7.2.3.1//EN
TZID:Europe/Zagreb
X-WR-TIMEZONE:Europe/Zagreb
BEGIN:VEVENT
UID:2334@dev.komedija.hr
DTSTART;TZID=Europe/Zagreb:20251110T200000
DTEND;TZID=Europe/Zagreb:20251110T213000
DTSTAMP:20251015T090547Z
URL:https://dev.komedija.hr/www/events/16-medunarodni-festival-heligonke/
SUMMARY:16. Međunarodni festival heligonke
DESCRIPTION:Heligonka je tradicionalna diatonska harmonika s gumbima. Preds
 tavlja nematerijalnu kulturnu baštinu\, najčešče se znanje sviranja pr
 enosi s djedova na unuke. Svojim bezvremenskim zvukom pokreće nas na ples
 . Poslušajte glazbenike iz Slovenije\, Slovačke\, &nbsp\;Poljske\, Švic
 arske i Hrvatske od samoukih svirača do dobitnika zlatnih priznanja na eu
 ropskim i svjetskim natjecanjima. Uživajte u raznolikom programu od etno 
 i zabavnih melodija do evergrina i jazza.
ATTACH;FMTTYPE=image/jpeg:https://dev.komedija.hr/www/wp-content/uploads/2
 025/10/HELIGONKI_WEB_feature-post_350x245.jpg
CATEGORIES:KLUB KAZALIŠTA KOMEDIJA (Cesarčeva 2)
END:VEVENT
BEGIN:VTIMEZONE
TZID:Europe/Zagreb
X-LIC-LOCATION:Europe/Zagreb
BEGIN:STANDARD
DTSTART:20251026T020000
TZOFFSETFROM:+0200
TZOFFSETTO:+0100
TZNAME:CET
END:STANDARD
END:VTIMEZONE
END:VCALENDAR