BEGIN:VCALENDAR
VERSION:2.0
PRODID:-//wp-events-plugin.com//7.2.3.1//EN
TZID:Europe/Zagreb
X-WR-TIMEZONE:Europe/Zagreb
BEGIN:VEVENT
UID:2095@dev.komedija.hr
DTSTART;TZID=Europe/Zagreb:20250110T203000
DTEND;TZID=Europe/Zagreb:20250110T223000
DTSTAMP:20241219T151639Z
URL:https://dev.komedija.hr/www/events/19860/
SUMMARY:T.I.E. (Take It Easy)\, koncert
DESCRIPTION:T.I.E. ( skraćenica za\; Take It Easy ) jest kantautorski proj
 ekt Katarine Vukadin ostvaren u suradnji sa dugogodišnjim prijateljem i a
 ranžerom Teom Aničićem.\n\nTIE iza sebe ima sada 2 albuma\; "Borrowed G
 uts" i nedavno objavljeni "Still Standing Still". Zvuk TIE je zanimljiv\; 
 na momente eksperimentalan\, na momente "old school rock" sve u svemu ima 
 svoj specifičan glazbeni stil te osoban i osebujan zvuk. Autorica glazbe 
 i tekstova je Katarina&nbsp\; Vukadin\, za aranžmane je &nbsp\;zaslužan 
 svestrani glazbenik Teo Aničić.\n\nTIE ce u Klubu Kazališta Komedija 10
 . siječnja izvesti (u acoustic verziji) pjesme sa oba albuma. Na 1. gitar
 i &nbsp\;biti &nbsp\;će Teo Aničić\, na 2. gitari vrlo talentirani glaz
 benik Luka Palčić\, na udaraljkama Marko Šturman a glavni vokal i autor
 ica projekta TIE Katarina Vukadin.\n\nVeselimo se vašem dolasku!
ATTACH;FMTTYPE=image/jpeg:https://dev.komedija.hr/www/wp-content/uploads/2
 024/12/IMG-20241217-WA0001.jpg
CATEGORIES:KLUB KAZALIŠTA KOMEDIJA (Cesarčeva 2)
END:VEVENT
BEGIN:VTIMEZONE
TZID:Europe/Zagreb
X-LIC-LOCATION:Europe/Zagreb
BEGIN:STANDARD
DTSTART:20241027T020000
TZOFFSETFROM:+0200
TZOFFSETTO:+0100
TZNAME:CET
END:STANDARD
END:VTIMEZONE
END:VCALENDAR