BEGIN:VCALENDAR
VERSION:2.0
PRODID:-//wp-events-plugin.com//7.2.3.1//EN
TZID:Europe/Zagreb
X-WR-TIMEZONE:Europe/Zagreb
BEGIN:VEVENT
UID:2247@dev.komedija.hr
DTSTART;TZID=Europe/Zagreb:20250514T210000
DTEND;TZID=Europe/Zagreb:20250514T230000
DTSTAMP:20250508T114923Z
URL:https://dev.komedija.hr/www/events/20587/
SUMMARY:Jednostavno… Breza
DESCRIPTION:Jednostavno… Breza\n\nDragi ljubitelji glazbe\, pozivamo vas 
 na koncert autentične vokalistice Breze.\n\nOva talentirana umjetnica oč
 arat će vas svojim upečatljivim vokalom i dirljivim interpretacijama naj
 ljepših hrvatskih i svjetskih balada. Kroz repertoar koji se kreće od Ar
 sena\, Kemala Montena\, Štulića\, Runjića\, Urbana\, Cohena\, Joan Baez
  i drugih\, Breza donosi priču iza pjesme i prenosi djelić svijeta najve
 ćih autora koji se te pjesme stvarali\, kao i velikih izvođača koji su 
 im dali život. Osim najljepših evergreena različitih žanrova\, Breza 
 će izvesti i nekoliko svojih pjesama.\nNa pozornici je prate&nbsp\; vrhun
 ski glazbenici - Tomislav Parmać na klaviru\, Leopold Stašić na violini
  i Neven Šverko na violončelu a kao šlag na tortu dolaze gosti- Lea Dek
 leva\, Filmmusicorkestar duo- Elma Oria Burnić i Admir Ćulumarević te m
 ladi gitarist Fran Bišćan.\n\nNe propustite ovu večer ispunjenu iskreno
 šću i emotivnošću koja obećava spoj čarobnih melodija i emotivne int
 erpretacije te priliku da zajedno proslavimo ljubav prema glazbi i stvorim
 o zajedničke uspomene. Dovedite prijatelje\, otvorite srca i prepustite s
 e čaroliji!&nbsp\;\n\nVidimo se!\n\nUlaznice dostupne na blagajnama&nbsp\
 ;Oktogon&nbsp\;i&nbsp\;Kaptol&nbsp\;te online na&nbsp\;ulaznice.hr!\n\nBre
 za Paić vokalna je umjetnica i arhitektica&nbsp\; iz Zagreba. Bavi izvođ
 enjem glazbe i podukom pjevanja. Njen glazbeni izričaj obilježava proži
 vljena interpretacija i nastojanje za visokim umjetničkim dostignućem. G
 lazba koju izvodi kreće se širokom lepezom žanrova. Majka je četvero d
 jece. 2024.g. izdala je prvi singl „Među nama“.\nwww.brezavocalart.co
 m
ATTACH;FMTTYPE=image/jpeg:https://dev.komedija.hr/www/wp-content/uploads/2
 025/04/Breza_Kontesa-140525-1-scaled.jpg
CATEGORIES:KLUB KAZALIŠTA KOMEDIJA (Cesarčeva 2)
LOCATION:https://www.ulaznice.hr/web/event-browse/8/19327
END:VEVENT
BEGIN:VTIMEZONE
TZID:Europe/Zagreb
X-LIC-LOCATION:Europe/Zagreb
BEGIN:DAYLIGHT
DTSTART:20250330T030000
TZOFFSETFROM:+0100
TZOFFSETTO:+0200
TZNAME:CEST
END:DAYLIGHT
END:VTIMEZONE
END:VCALENDAR