BEGIN:VCALENDAR
VERSION:2.0
PRODID:-//wp-events-plugin.com//7.2.3.1//EN
TZID:Europe/Zagreb
X-WR-TIMEZONE:Europe/Zagreb
BEGIN:VEVENT
UID:2299@dev.komedija.hr
DTSTART;TZID=Europe/Zagreb:20251003T210000
DTEND;TZID=Europe/Zagreb:20251003T230000
DTSTAMP:20250922T121807Z
URL:https://dev.komedija.hr/www/events/20987/
SUMMARY:Grupa FLYER\, koncert
DESCRIPTION:Flyer je nastao 1996. godine i svoje djelovanje su započeli sv
 iranjem obrada koje bi se žanrovski mogle svrstati pod pop\, soul\, r’n
 ’b i acid jazz. Takav ukus i način rada počeo je oblikovati autorski i
 zričaj po kojemu je i Flyer dan danas prepoznatljiv – bogata ritam sekc
 ija i melodičan ženski vokal.\nKada su snimili prvi demo album 2003. god
 ine\, Flyer je počeo s prvim pojavljivanjima na demo sceni kao mladi auto
 rski bend. Tako je na&nbsp\;”IDEMO”&nbsp\;festivalu demo bendova bio p
 roglašen najboljim demo bendom\, a neposredno nakon toga osvajaju većinu
  nagrada na&nbsp\;”Heineken music Festivalu”&nbsp\;u Zenici. Posebno t
 reba izdvojiti&nbsp\;”Rock Otočec”&nbsp\;gdje su u takvom ranom stadi
 ju djelovanja nastupali sa svjetski poznatim izvođačima poput Stereo MC
 ’s\, a na&nbsp\;”Open Air Festivalu”&nbsp\;u Zagrebu\, djelili su st
 age s&nbsp\;Morcheebom.\nUz brojne nastupe na TV emisijama i radijima\, Fl
 yer je stekao dovoljno iskustva i eksponiranosti što im je omogućilo pot
 pisivanje izdavačkog ugovora s&nbsp\;Croatiom Records\, a krajem travnja 
 2004. godine izdaju prvi single naziva&nbsp\;”Stanica prema suncu”&nbs
 p\;koji je postigao velik uspjeh na top listama hrvatskh radija i televizi
 jskih postaja. Krajem godine izdaju&nbsp\;”Želim najviše”\, a recepc
 ija od strane publike i medija je nastavljena u istom tonu. Štoviše\, sl
 ušatelji i publika\, kao glavni žiri za hrvatsku glazbenu nagradu&nbsp\;
 ”Zlatna Koogla”\, većinom glasova nagradu dodjeljuju upravo grupi Fly
 er. Posebno treba istakunti uspjeh trećeg singla\, odnosno obrade&nbsp\;
 ”O jednoj mladosti”&nbsp\;koju je Flyer ostvario u formi dueta s origi
 nalnim izvođačem te pjesme\,&nbsp\;Josipom Lisac. Obrada je postala hit 
 preko noći te je dobila status najemitiranijeg hita 2005. godine\, iste g
 odine kada je izašao i njihov prvi album&nbsp\;”Epopeja”\, čiji je v
 izualni identitet\, ostao prepoznatljiv i danas\, zahvaljujući fotografu&
 nbsp\;Damiru Hoyki.\nUspjeh grupe Flyer nastavio se i s četvrtim singlom&
 nbsp\;”Tko si ti”\, a ubrzo nakon toga proglašeni su za&nbsp\;”Nadu
  godine”&nbsp\;od strane&nbsp\;HR TOP 20. Odlukom slušatelja Otvorenog 
 radija\, Flyer je proglašen&nbsp\;”Najboljim novim izvođačem”.\nRad
  na drugom studijskom albumu započeo je 2006. godine. Time je započela s
 uradnja s producentom&nbsp\;Samirom Kadribašićem\, tada basistom legenda
 rnih&nbsp\;Jinxa. Također\, na albumu je sudjelovala brass sekcija poznat
 og acid jazz benda&nbsp\;Incognito\, a i otpjevan je duet s njihovom vokal
 isticom svjetskoga glasa –&nbsp\;Imaani. Upravo zvog toga je dio produkc
 ije odrađen u Londonu\, a rezultat navedenih suradnji predstavio je Flyer
  kao ozbiljnu i glazbeno zrelu grupu. Tako je 2007. godine&nbsp\;”Sve iz
 a nas”&nbsp\;bio prvi promotivni single za koji je grupa Flyer spotom\, 
 u režiji Tomislava Brđanovića\, najavila svoj drugi album imena&nbsp\;
 ”Iluzija”.\nRazdoblje koje slijedi bilo je popraćeno brojnim koncerti
 ma\, ali i sporom žurbom oko rada na novom materijalu. Flyer se takvim pr
 istupom odlučio koncentrirati na predstavljanju svakog singla zasebno i t
 ako je\, kroz period od 8 godina\, predstavljeno 11 singlova. Prvi\, koji 
 je bio i najava ”nadolazećeg” albuma\, bio je nazvan&nbsp\;”Inspira
 cija”&nbsp\;te je 2009. godine nastavljena prisutnost na top listama. Po
 znati singlovi poput&nbsp\;”Ruke”\,&nbsp\;”Pjesma za dvoje”&nbsp\;
 i&nbsp\;”Sve je u redu”&nbsp\;predstavili su ih u novijem zvuku\, zahv
 aljujući&nbsp\;Zvonimiru Dusperu Dusu\, koji je surađivao s njima kao pr
 oducent od 2013. godine. Dvije godine poslije\, na posljednja četiri sing
 la radio je producent njihovog prvog albuma\,&nbsp\;Goran Martinac\, te je
  2017. godine izašao zadnji single&nbsp\;”Kako da te ne volim”&nbsp\;
 i time je Flyer objavio svoj treći studijski album –&nbsp\;”Flyer 3
 ”. Na vizualu albuma radili su basist Flyera Ivo Dunat (fotografije) i D
 inko Pasini (dizajn i video) iz&nbsp\;KLIKAM STUDIJA.\nFlyer:\nPetra Koža
 r (glavni vokal) \, Ivan Dumalovski Janjušić (gitara)\, Ivo Dunat (bas g
 itara)\, Željko Kožar (bubanj) i Mario Kovač (klavijature).\n\nDođite 
 i uvjerite se kako ova grupa nenormalnih individualaca u međusobnoj kombi
 naciji uspijeva stvoriti nešto slušljivo i hvale vrijedno. Ne propustite
  - Flyer\, 3. listopada 2025. u 21 sat u Klubu Kazališta Komedija (Cesar
 čeva 2).\n\nUlaznice dostupne online na ulaznice.hr te na blagajni Kluba 
 Kazališta Komedija. Radno vrijeme blagajne je od 18:30 do 21:30\,&nbsp\;i
 sključivo na dane kada se održavaju predstave/programi u Klubu.
ATTACH;FMTTYPE=image/jpeg:https://dev.komedija.hr/www/wp-content/uploads/2
 025/07/flyer_WEB_feature-post_350x245.png
CATEGORIES:KLUB KAZALIŠTA KOMEDIJA (Cesarčeva 2)
LOCATION:https://www.ulaznice.hr/web/event-browse/8/19667
END:VEVENT
BEGIN:VTIMEZONE
TZID:Europe/Zagreb
X-LIC-LOCATION:Europe/Zagreb
BEGIN:DAYLIGHT
DTSTART:20250330T030000
TZOFFSETFROM:+0100
TZOFFSETTO:+0200
TZNAME:CEST
END:DAYLIGHT
END:VTIMEZONE
END:VCALENDAR