BEGIN:VCALENDAR
VERSION:2.0
PRODID:-//wp-events-plugin.com//7.2.3.1//EN
TZID:Europe/Zagreb
X-WR-TIMEZONE:Europe/Zagreb
BEGIN:VEVENT
UID:2066@dev.komedija.hr
DTSTART;TZID=Europe/Zagreb:20250130T193000
DTEND;TZID=Europe/Zagreb:20250130T223000
DTSTAMP:20250130T134053Z
URL:https://dev.komedija.hr/www/events/a-boublil-i-c-m-schonberg-jadnici-1
 4/
SUMMARY:A. Boublil i C. M. Schönberg: JADNICI
DESCRIPTION:Podjela 30. 1. 2025.:\n\nJean Valjean: Ervin Baučić&nbsp\;\nJ
 avert: Đani Stipaničev\nFantine:&nbsp\;Vanda Winter\nMarius:&nbsp\;Filip
  Hozjak&nbsp\;\nCosette: Katarina Margaretić&nbsp\;\nThénardier: Ronald 
 Žlabur\nMme. Thénardier: Zrinka Kušević\nEnjolras: Fabijan Pavao Medve
 šek\nEponine: Dora Trogrlić\nDijete Cosette: Lejla Hajdarević&nbsp\;\nG
 avroche: David Novosel&nbsp\;\nDijete Eponine: Rita Palić\n\nAnsambl:\nAl
 eta Arbanas Rendulić\, Jadranka Gospodnetić\, Kristina Habuš\, Vlatka K
 ladarić\, Dora Masle\, Irena Raduka\, Tara Thaller\, Katarina Tomaš\nDin
 o Antonić\, Boris Barberić\, Miran Belaić\, Dario Došlić\, Luka Mati
 ć\, Sven Pocrnić\, Jura Ruža\, Zoran Simikić\, Dorian Stipčić\, Stef
 ano Surian\, Matija Škvorc\, Karlo Topolovec\nSudjeluje orkestar Kazališ
 ta Komedija.\n\nViše o predstavi pogledajte ovdje.
CATEGORIES:JADNICI + KUPI
END:VEVENT
BEGIN:VTIMEZONE
TZID:Europe/Zagreb
X-LIC-LOCATION:Europe/Zagreb
BEGIN:STANDARD
DTSTART:20241027T020000
TZOFFSETFROM:+0200
TZOFFSETTO:+0100
TZNAME:CET
END:STANDARD
END:VTIMEZONE
END:VCALENDAR