BEGIN:VCALENDAR
VERSION:2.0
PRODID:-//wp-events-plugin.com//7.2.3.1//EN
TZID:Europe/Zagreb
X-WR-TIMEZONE:Europe/Zagreb
BEGIN:VEVENT
UID:2085@dev.komedija.hr
DTSTART;TZID=Europe/Zagreb:20250308T193000
DTEND;TZID=Europe/Zagreb:20250308T223000
DTSTAMP:20250308T112210Z
URL:https://dev.komedija.hr/www/events/a-boublil-i-c-m-schonberg-jadnici-1
 7/
SUMMARY:A. Boublil i C. M. Schönberg: JADNICI
DESCRIPTION:Podjela 8. 3. 2025.:\n\nJean Valjean:&nbsp\;Ervin Baučić&nbsp
 \;\nJavert: Đani Stipaničev\nFantine: Vanda Winter\nMarius:&nbsp\;Filip 
 Hozjak&nbsp\;\nCosette: Gabriela Mijatović&nbsp\;\nThénardier:&nbsp\;Ron
 ald Žlabur\nMme. Thénardier: Nika Ivančić&nbsp\;\nEnjolras: Fabijan Pa
 vao Medvešek\nEponine: Nikolina Vujić\nDijete Cosette: Leonora Herceg&nb
 sp\;\nGavroche: Josip Makar&nbsp\;\nDijete Eponine: Una Šilić Dragoljevi
 ć\n\nAnsambl:\n\nAleta Arbanas Rendulić\, Jadranka Gospodnetić\, Rajka 
 Grabar\, Vlatka Kladarić\, Katarina Margaretić\, Dora Masle\, Tara Thall
 er\, Katarina Tomaš\, Dino Antonić\, Miran Belaić\, Dario Došlić\, Ra
 jnard Hraščanec\, Luka Matić\, Dragan Peka\, Jura Ruža\, Zoran Simiki
 ć\, Dorian Stipčić\, Neven Stipčić\, Karlo Topolovec\, Roman Vranči
 ć\n\nSudjeluje orkestar Kazališta Komedija.\n\nViše o predstavi pogleda
 jte ovdje.
ATTACH;FMTTYPE=image/jpeg:https://dev.komedija.hr/www/wp-content/uploads/2
 024/11/JADNICI_1000x750px.jpg
CATEGORIES:JADNICI + KUPI
END:VEVENT
BEGIN:VTIMEZONE
TZID:Europe/Zagreb
X-LIC-LOCATION:Europe/Zagreb
BEGIN:STANDARD
DTSTART:20241027T020000
TZOFFSETFROM:+0200
TZOFFSETTO:+0100
TZNAME:CET
END:STANDARD
END:VTIMEZONE
END:VCALENDAR