BEGIN:VCALENDAR
VERSION:2.0
PRODID:-//wp-events-plugin.com//7.2.3.1//EN
TZID:Europe/Zagreb
X-WR-TIMEZONE:Europe/Zagreb
BEGIN:VEVENT
UID:2086@dev.komedija.hr
DTSTART;TZID=Europe/Zagreb:20250304T193000
DTEND;TZID=Europe/Zagreb:20250304T223000
DTSTAMP:20250304T104008Z
URL:https://dev.komedija.hr/www/events/a-boublil-i-c-m-schonberg-jadnici-1
 8/
SUMMARY:A. Boublil i C. M. Schönberg: JADNICI
DESCRIPTION:Podjela 4. 3. 2025.:\n\nJean Valjean:&nbsp\;Ervin Baučić&nbsp
 \;\nJavert: Igor Drvenkar\nFantine: Vanda Winter\nMarius: Neven Stipčić\
 nCosette: Katarina Margaretić&nbsp\;\nThénardier: Ronald Žlabur\nMme. T
 hénardier: Zrinka Kušević\nEnjolras: Fabijan Pavao Medvešek\nEponine: 
 Sara Vojičić&nbsp\;\nDijete Cosette: Lejla Hajdarević\nGavroche: David 
 Novosel\nDijete Eponine: Una Šilić Dragoljević\n\nAnsambl:\nAleta Arban
 as Rendulić\, Jadranka Gospodnetić\, Rajka Grabar\, Vlatka Kladarić\, D
 ora Masle\, Irena Raduka\, Tara Thaller\, Katarina Tomaš\, Dino Antonić\
 , Miran Belaić\, Dario Došlić\, Rajnard Hraščanec\, Luka Matić\, Dra
 gan Peka\, Sven Pocrnić\, Jura Ruža\, Zoran Simikić\, Dorian Stipčić\
 , Stefano Surian\, Karlo Topolovec\n\nSudjeluje orkestar Kazališta Komedi
 ja.\n\nViše o predstavi pogledajte ovdje.
ATTACH;FMTTYPE=image/jpeg:https://dev.komedija.hr/www/wp-content/uploads/2
 024/11/JADNICI_1000x750px.jpg
CATEGORIES:JADNICI + KUPI
END:VEVENT
BEGIN:VTIMEZONE
TZID:Europe/Zagreb
X-LIC-LOCATION:Europe/Zagreb
BEGIN:STANDARD
DTSTART:20241027T020000
TZOFFSETFROM:+0200
TZOFFSETTO:+0100
TZNAME:CET
END:STANDARD
END:VTIMEZONE
END:VCALENDAR