BEGIN:VCALENDAR
VERSION:2.0
PRODID:-//wp-events-plugin.com//7.2.3.1//EN
TZID:Europe/Zagreb
X-WR-TIMEZONE:Europe/Zagreb
BEGIN:VEVENT
UID:2087@dev.komedija.hr
DTSTART;TZID=Europe/Zagreb:20250305T193000
DTEND;TZID=Europe/Zagreb:20250305T223000
DTSTAMP:20250305T141038Z
URL:https://dev.komedija.hr/www/events/a-boublil-i-c-m-schonberg-jadnici-1
 9/
SUMMARY:A. Boublil i C. M. Schönberg: JADNICI
DESCRIPTION:Podjela 5. 3. 2025.:\n\nJean Valjean: Dražen Bratulić\nJavert
 : Igor Drvenkar&nbsp\;\nFantine:&nbsp\;Renata Sabljak&nbsp\;\nMarius: Neve
 n Stipčić\nCosette: Gabriela Mijatović&nbsp\;\nThénardier: Ronald Žla
 bur\nMme. Thénardier: Nika Ivančić\nEnjolras: Devin Juraj&nbsp\;\nEponi
 ne: Sara Vojičić&nbsp\;\nDijete Cosette: Leonora Herceg&nbsp\;\nGavroche
 : Josip Makar\nDijete Eponine: Rita Palić\n\nAnsambl:\nAleta Arbanas Rend
 ulić\, Iva Boršić\, Jadranka Gospodnetić\, Kristina Habuš\, Vlatka Kl
 adarić\, Katarina Margaretić\, Dora Masle\, Katarina Tomaš\, Dino Anton
 ić\, Miran Belaić\, Dario Došlić\, Rajnard Hraščanec\, Luka Matić\,
  Dragan Peka\, Sven Pocrnić\, Jura Ruža\, Zoran Simikić\, Dorian Stipč
 ić\, Karlo Topolovec\, Roman Vrančić\nSudjeluje orkestar Kazališta Kom
 edija.\n\nViše o predstavi pogledajte ovdje.
ATTACH;FMTTYPE=image/jpeg:https://dev.komedija.hr/www/wp-content/uploads/2
 024/11/JADNICI_1000x750px.jpg
CATEGORIES:JADNICI + KUPI
END:VEVENT
BEGIN:VTIMEZONE
TZID:Europe/Zagreb
X-LIC-LOCATION:Europe/Zagreb
BEGIN:STANDARD
DTSTART:20241027T020000
TZOFFSETFROM:+0200
TZOFFSETTO:+0100
TZNAME:CET
END:STANDARD
END:VTIMEZONE
END:VCALENDAR