BEGIN:VCALENDAR
VERSION:2.0
PRODID:-//wp-events-plugin.com//7.2.3.1//EN
TZID:Europe/Zagreb
X-WR-TIMEZONE:Europe/Zagreb
BEGIN:VEVENT
UID:2091@dev.komedija.hr
DTSTART;TZID=Europe/Zagreb:20250307T193000
DTEND;TZID=Europe/Zagreb:20250307T223000
DTSTAMP:20250307T131253Z
URL:https://dev.komedija.hr/www/events/a-boublil-i-c-m-schonberg-jadnici-2
 2/
SUMMARY:A. Boublil i C. M. Schönberg: JADNICI
DESCRIPTION:Podjela 7. 3. 2025.:\n\nJean Valjean: Dražen Bratulić\nJavert
 : Đani Stipaničev\nFantine: Vanda Winter\nMarius:&nbsp\;Filip Hozjak&nbs
 p\;\nCosette: Gabriela Mijatović&nbsp\;\nThénardier: Ronald Žlabur\nMme
 . Thénardier: Zrinka Kušević\nEnjolras: Fabijan Pavao Medvešek\nEponin
 e: Nikolina Vujić\nDijete Cosette: Lejla Hajdarević&nbsp\;\nGavroche: Da
 vid Novosel&nbsp\;\nDijete Eponine: Rita Palić&nbsp\;\n\nAnsambl:\nJadran
 ka Gospodnetić\, Rajka Grabar\, Vlatka Kladarić\, Katarina Margaretić\,
  Dora Masle\, Irena Raduka\, Tara Thaller\, Katarina Tomaš\, Dino Antoni
 ć\, Boris Barberić\, Miran Belaić\, Rajnard Hraščanec\, Luka Matić\,
  Dragan Peka\,&nbsp\; Zoran Simikić\, Dorian Stipčić\, Neven Stipčić\
 , Stefano Surian\, Matija Škvorc\, Karlo Topolovec\nSudjeluje orkestar Ka
 zališta Komedija.\n\nViše o predstavi pogledajte ovdje.
ATTACH;FMTTYPE=image/jpeg:https://dev.komedija.hr/www/wp-content/uploads/2
 024/11/JADNICI_1000x750px.jpg
CATEGORIES:JADNICI + KUPI
END:VEVENT
BEGIN:VTIMEZONE
TZID:Europe/Zagreb
X-LIC-LOCATION:Europe/Zagreb
BEGIN:STANDARD
DTSTART:20241027T020000
TZOFFSETFROM:+0200
TZOFFSETTO:+0100
TZNAME:CET
END:STANDARD
END:VTIMEZONE
END:VCALENDAR