BEGIN:VCALENDAR
VERSION:2.0
PRODID:-//wp-events-plugin.com//7.2.3.1//EN
TZID:Europe/Zagreb
X-WR-TIMEZONE:Europe/Zagreb
BEGIN:VEVENT
UID:2171@dev.komedija.hr
DTSTART;TZID=Europe/Zagreb:20250402T193000
DTEND;TZID=Europe/Zagreb:20250402T223000
DTSTAMP:20250402T104949Z
URL:https://dev.komedija.hr/www/events/a-boublil-i-c-m-schonberg-jadnici-2
 4/
SUMMARY:A. Boublil i C. M. Schönberg: JADNICI
DESCRIPTION:Podjela 2. 4. 2025.:\n\nJean Valjean:&nbsp\;Dražen Bratulić\n
 Javert: Đani Stipaničev\nFantine:&nbsp\;Renata Sabljak&nbsp\;\nMarius:&n
 bsp\;Filip Hozjak&nbsp\;\nCosette: Gabriela Mijatović&nbsp\;\nThénardier
 :&nbsp\;Ronald Žlabur\nMme. Thénardier: Zrinka Kušević\nEnjolras: Devi
 n Juraj\nEponine: Dora Trogrlić\nDijete Cosette: Lejla Hajdarević&nbsp\;
 \nGavroche: David Novosel\nDijete Eponine: Una Šilić Dragoljević\n\nAns
 ambl:\n\nAleta Arbanas Rendulić\, Jadranka Gospodnetić\, Rajka Grabar\, 
 Vlatka Kladarić\, Dora Masle\, Irena Raduka\, Tara Thaller\, Katarina Tom
 aš\, Dino Antonić\, Boris Barberić\, Vid Begić\, Miran Belaić\, Rajna
 rd Hraščanec\, Luka Matić\, Dragan Peka\, Sven Pocrnić\, Jura Ruža\, 
 Karlo Topolovec\, Roman Vrančić\n\nSudjeluje orkestar Kazališta Komedij
 a.\n\nViše o predstavi pogledajte ovdje.
ATTACH;FMTTYPE=image/jpeg:https://dev.komedija.hr/www/wp-content/uploads/2
 024/11/JADNICI_1000x750px.jpg
CATEGORIES:JADNICI + KUPI
END:VEVENT
BEGIN:VTIMEZONE
TZID:Europe/Zagreb
X-LIC-LOCATION:Europe/Zagreb
BEGIN:DAYLIGHT
DTSTART:20250330T030000
TZOFFSETFROM:+0100
TZOFFSETTO:+0200
TZNAME:CEST
END:DAYLIGHT
END:VTIMEZONE
END:VCALENDAR