BEGIN:VCALENDAR
VERSION:2.0
PRODID:-//wp-events-plugin.com//7.2.3.1//EN
TZID:Europe/Zagreb
X-WR-TIMEZONE:Europe/Zagreb
BEGIN:VEVENT
UID:2172@dev.komedija.hr
DTSTART;TZID=Europe/Zagreb:20250403T193000
DTEND;TZID=Europe/Zagreb:20250403T223000
DTSTAMP:20250403T140005Z
URL:https://dev.komedija.hr/www/events/a-boublil-i-c-m-schonberg-jadnici-2
 5/
SUMMARY:A. Boublil i C. M. Schönberg: JADNICI
DESCRIPTION:Podjela 3. 4. 2025.:\n\nJean Valjean: Dražen Bratulić\nJavert
 : Đani Stipaničev\nFantine: Vanda Winter\nMarius: Neven Stipčić\nCoset
 te: Gabriela Mijatović&nbsp\;\nThénardier:&nbsp\;Jan Kovačić&nbsp\;\nM
 me. Thénardier: Zrinka Kušević\nEnjolras: Devin Juraj\nEponine: Sara Vo
 jičić&nbsp\;\nDijete Cosette: Leonora Herceg&nbsp\;\nGavroche: Josip Mak
 ar&nbsp\;\nDijete Eponine: Rita Palić&nbsp\;\n\nAnsambl:\n\nAleta Arbanas
  Rendulić\, Iva Boršić\, Jadranka Gospodnetić\, Rajka Grabar\, Vlatka 
 Kladarić\, Dora Masle\, Irena Raduka\, Katarina Tomaš\, Dino Antonić\, 
 Miran Belaić\, Dario Došlić\, Rajnard Hraščanec\, Luka Matić\, Draga
 n Peka\, Sven Pocrnić\, Dorian Stipčić\, Matija Škvorc\, Karlo Topolov
 ec\, Roman Vrančić\n\nSudjeluje orkestar Kazališta Komedija.\n\nViše o
  predstavi pogledajte ovdje.
ATTACH;FMTTYPE=image/jpeg:https://dev.komedija.hr/www/wp-content/uploads/2
 024/11/JADNICI_1000x750px.jpg
CATEGORIES:JADNICI + KUPI
END:VEVENT
BEGIN:VTIMEZONE
TZID:Europe/Zagreb
X-LIC-LOCATION:Europe/Zagreb
BEGIN:DAYLIGHT
DTSTART:20250330T030000
TZOFFSETFROM:+0100
TZOFFSETTO:+0200
TZNAME:CEST
END:DAYLIGHT
END:VTIMEZONE
END:VCALENDAR