BEGIN:VCALENDAR
VERSION:2.0
PRODID:-//wp-events-plugin.com//7.2.3.1//EN
TZID:Europe/Zagreb
X-WR-TIMEZONE:Europe/Zagreb
BEGIN:VEVENT
UID:2175@dev.komedija.hr
DTSTART;TZID=Europe/Zagreb:20250410T193000
DTEND;TZID=Europe/Zagreb:20250410T223000
DTSTAMP:20250410T104441Z
URL:https://dev.komedija.hr/www/events/a-boublil-i-c-m-schonberg-jadnici-2
 8/
SUMMARY:A. Boublil i C. M. Schönberg: JADNICI
DESCRIPTION:Podjela 10. 4. 2025.:\n\nJean Valjean:&nbsp\;Ervin Baučić&nbs
 p\;\nJavert: Igor Drvenkar /\nFantine:&nbsp\;Renata Sabljak\nMarius:&nbsp\
 ;Filip Hozjak\nCosette: Katarina Margaretić&nbsp\;\nThénardier: Ronald 
 Žlabur\nMme. Thénardier: Nika Ivančić\nEnjolras: Fabijan Pavao Medveš
 ek\nEponine: Sara Vojičić&nbsp\;\nDijete Cosette: Leonora Herceg&nbsp\;\
 nGavroche: Josip Makar&nbsp\;\nDijete Eponine: Rita Palić&nbsp\;\n\nAnsam
 bl:\n\nAleta Arbanas Rendulić\, Jadranka Gospodnetić\, Kristina Habuš\,
  Vlatka Kladarić\, Dora Masle\, Irena Raduka\, Tara Thaller\, Katarina To
 maš\, Miran Belaić\, Dario Došlić\, Rajnard Hraščanec\, Luka Matić\
 , Dragan Peka\, Sven Pocrnić\, Zoran Simikić\, Dorian Stipčić\, Stefan
 o Surian\, Matija Škvorc\, Karlo Topolovec\, Roman Vrančić\n\nSudjeluje
  orkestar Kazališta Komedija.\n\nViše o predstavi pogledajte ovdje.
ATTACH;FMTTYPE=image/jpeg:https://dev.komedija.hr/www/wp-content/uploads/2
 024/11/JADNICI_1000x750px.jpg
CATEGORIES:JADNICI + KUPI
END:VEVENT
BEGIN:VTIMEZONE
TZID:Europe/Zagreb
X-LIC-LOCATION:Europe/Zagreb
BEGIN:DAYLIGHT
DTSTART:20250330T030000
TZOFFSETFROM:+0100
TZOFFSETTO:+0200
TZNAME:CEST
END:DAYLIGHT
END:VTIMEZONE
END:VCALENDAR