BEGIN:VCALENDAR
VERSION:2.0
PRODID:-//wp-events-plugin.com//7.2.3.1//EN
TZID:Europe/Zagreb
X-WR-TIMEZONE:Europe/Zagreb
BEGIN:VEVENT
UID:2287@dev.komedija.hr
DTSTART;TZID=Europe/Zagreb:20250619T190000
DTEND;TZID=Europe/Zagreb:20250619T220000
DTSTAMP:20250612T115330Z
URL:https://dev.komedija.hr/www/events/a-boublil-i-c-m-schonberg-jadnici-3
 2/
SUMMARY:A. Boublil i C. M. Schönberg: JADNICI
DESCRIPTION:Više o predstavi pogledajte ovdje.
ATTACH;FMTTYPE=image/jpeg:https://dev.komedija.hr/www/wp-content/uploads/2
 024/11/JADNICI_1000x750px.jpg
CATEGORIES:Gostovanje u Brnu,[ KAZALIŠTE KOMEDIJA ]
END:VEVENT
BEGIN:VTIMEZONE
TZID:Europe/Zagreb
X-LIC-LOCATION:Europe/Zagreb
BEGIN:DAYLIGHT
DTSTART:20250330T030000
TZOFFSETFROM:+0100
TZOFFSETTO:+0200
TZNAME:CEST
END:DAYLIGHT
END:VTIMEZONE
END:VCALENDAR