BEGIN:VCALENDAR
VERSION:2.0
PRODID:-//wp-events-plugin.com//7.2.3.1//EN
TZID:Europe/Zagreb
X-WR-TIMEZONE:Europe/Zagreb
BEGIN:VEVENT
UID:2061@dev.komedija.hr
DTSTART;TZID=Europe/Zagreb:20241228T193000
DTEND;TZID=Europe/Zagreb:20241228T223000
DTSTAMP:20241228T172934Z
URL:https://dev.komedija.hr/www/events/a-boublil-i-c-m-schonberg-jadnici-9
 /
SUMMARY:A. Boublil i C. M. Schönberg: JADNICI
DESCRIPTION:Podjela 28.12. 2024.\n\nJean Valjean: Ervin Baučić&nbsp\;\nJa
 vert:&nbsp\; Igor Drvenkar\nFantine: Renata Sabljak&nbsp\;\nMarius: Filip 
 Hozjak&nbsp\;\nCosette: Katarina Margaretić\nThénardier: Ronald Žlabur\
 nMme. Thénardier: Zrinka Kušević\nEnjolras: Fabijan Pavao Medvešek\nEp
 onine: Nikolina Vujić\nDijete Cosette:&nbsp\; Leonora Herceg&nbsp\;\nGavr
 oche: Josip Makar&nbsp\;\nDijete Eponine: Una Šilić Dragoljević\n\nAnsa
 mbl:\n\nAleta Arbanas Rendulić\, Iva Boršić\, Jadranka Gospodnetić\, M
 ia Gregorić\, Kristina Habuš\, Vlatka Kladarić\, Katarina Margaretić\,
  Katarina Tomaš\nDino Antonić\, Miran Belaić\, Dario Došlić\, Rajnard
  Hraščanec\, Luka Matić\, Dragan Peka\, Jura Ruža\, Zoran Simikić\, D
 orian Stipčić\, Neven Stipčić\, Stefano Surian\, Karlo Topolovec\nSudj
 eluje orkestar Kazališta Komedija.\n\nViše o predstavi pogledajte ovdje.
CATEGORIES:JADNICI + KUPI
END:VEVENT
BEGIN:VTIMEZONE
TZID:Europe/Zagreb
X-LIC-LOCATION:Europe/Zagreb
BEGIN:STANDARD
DTSTART:20241027T020000
TZOFFSETFROM:+0200
TZOFFSETTO:+0100
TZNAME:CET
END:STANDARD
END:VTIMEZONE
END:VCALENDAR