BEGIN:VCALENDAR
VERSION:2.0
PRODID:-//wp-events-plugin.com//7.2.3.1//EN
TZID:Europe/Zagreb
X-WR-TIMEZONE:Europe/Zagreb
BEGIN:VEVENT
UID:1949@dev.komedija.hr
DTSTART;TZID=Europe/Zagreb:20241001T193000
DTEND;TZID=Europe/Zagreb:20241001T223000
DTSTAMP:20240920T124659Z
URL:https://dev.komedija.hr/www/events/a-menken-h-ashman-t-rice-ljepotica-
 i-zvijer-45/
SUMMARY:A. Menken—H. Ashman—T. Rice: LJEPOTICA I ZVIJER
DESCRIPTION:Podjela 1. 10. 2024.:\n\nBELLE – Renata Sabljak&nbsp\;\nZVIJE
 R –&nbsp\;Igor Drvenkar&nbsp\;\nGASTON –&nbsp\;Matko Knešaurek\nLUMI
 ÈRE –&nbsp\;Đani Stipaničev\nDIN DON – Igor Mešin\nGOSPOĐA KAMILI
 CA – &nbsp\;Jasna Bilušić\nLEFOU –&nbsp\;Jan Kovačić\nMAURICE – 
 &nbsp\;Ervin Baučić&nbsp\;\nBABETTE –&nbsp\;Danijela Pintarić\nPRIMAD
 ONNA GRANDE BOCCA –&nbsp\;Sandra Bagarić\nMRVICA – &nbsp\;Adriana Kla
 čar\nMONSIEUR D’ARQUE –&nbsp\;Neven Stipčić\nBUDALASTE DJEVOJKE –
 &nbsp\;Lana Blaće\,&nbsp\;Kristina Habuš\,&nbsp\;Irena Raduka\nBLIZANKA 
 1 / SOL –&nbsp\;Marta Simikić\nBLIZANKA 2 / PAPAR –&nbsp\;Hana Samard
 žić\n\nZbor\, baletni ansambl i orkestar Kazališta „Komedija“\n\nVi
 še o predstavi pogledajte&nbsp\;OVDJE.
ATTACH;FMTTYPE=image/jpeg:https://dev.komedija.hr/www/wp-content/uploads/2
 023/03/Beauty_and_the_beast_FB_1200x1200_01.png
CATEGORIES:izvodi se u KD Vatroslava Lisinskog
END:VEVENT
BEGIN:VTIMEZONE
TZID:Europe/Zagreb
X-LIC-LOCATION:Europe/Zagreb
BEGIN:DAYLIGHT
DTSTART:20240331T030000
TZOFFSETFROM:+0100
TZOFFSETTO:+0200
TZNAME:CEST
END:DAYLIGHT
END:VTIMEZONE
END:VCALENDAR