BEGIN:VCALENDAR
VERSION:2.0
PRODID:-//wp-events-plugin.com//7.2.3.1//EN
TZID:Europe/Zagreb
X-WR-TIMEZONE:Europe/Zagreb
BEGIN:VEVENT
UID:1951@dev.komedija.hr
DTSTART;TZID=Europe/Zagreb:20241003T193000
DTEND;TZID=Europe/Zagreb:20241003T223000
DTSTAMP:20240930T075504Z
URL:https://dev.komedija.hr/www/events/a-menken-h-ashman-t-rice-ljepotica-
 i-zvijer-47/
SUMMARY:A. Menken—H. Ashman—T. Rice: LJEPOTICA I ZVIJER
DESCRIPTION:Podjela 3. 10. 2024.:\n\nBELLE –&nbsp\;Vanda Winter&nbsp\;\nZ
 VIJER –&nbsp\;Igor Drvenkar&nbsp\;\nGASTON –&nbsp\;Fabijan Pavao Medve
 šek&nbsp\;\nLUMIÈRE –&nbsp\;Dražen Bratulić&nbsp\;\nDIN DON –&nbsp
 \;Goran Malus&nbsp\;\nGOSPOĐA KAMILICA –&nbsp\;Renata Sabljak&nbsp\;\nL
 EFOU –&nbsp\;Ognjen Milovanović&nbsp\;\nMAURICE –Adalbert Turner\nBAB
 ETTE – Danijela Pintarić\nPRIMADONNA GRANDE BOCCA –&nbsp\;Vlatka Buri
 ć Dujmović&nbsp\;\nMRVICA –&nbsp\;Ruben Carović\nMONSIEUR D’ARQUE 
 – Neven Stipčić\nBUDALASTE DJEVOJKE –&nbsp\;Lana Blaće\,&nbsp\;Kris
 tina Habuš\,&nbsp\;Irena Raduka\nBLIZANKA 1 / SOL –&nbsp\;Marta Simiki
 ć\nBLIZANKA 2 / PAPAR –&nbsp\;Hana Samardžić\n\nZbor\, baletni ansamb
 l i orkestar Kazališta „Komedija“\n\nViše o predstavi pogledajte OVD
 JE.
ATTACH;FMTTYPE=image/jpeg:https://dev.komedija.hr/www/wp-content/uploads/2
 023/03/Beauty_and_the_beast_FB_1200x1200_01.png
CATEGORIES:izvodi se u KD Vatroslava Lisinskog
END:VEVENT
BEGIN:VTIMEZONE
TZID:Europe/Zagreb
X-LIC-LOCATION:Europe/Zagreb
BEGIN:DAYLIGHT
DTSTART:20240331T030000
TZOFFSETFROM:+0100
TZOFFSETTO:+0200
TZNAME:CEST
END:DAYLIGHT
END:VTIMEZONE
END:VCALENDAR