BEGIN:VCALENDAR
VERSION:2.0
PRODID:-//wp-events-plugin.com//7.2.3.1//EN
TZID:Europe/Zagreb
X-WR-TIMEZONE:Europe/Zagreb
BEGIN:VEVENT
UID:2024@dev.komedija.hr
DTSTART;TZID=Europe/Zagreb:20250114T190000
DTEND;TZID=Europe/Zagreb:20250114T220000
DTSTAMP:20241216T144232Z
URL:https://dev.komedija.hr/www/events/a-menken-h-ashman-t-rice-ljepotica-
 i-zvijer-51/
SUMMARY:A. Menken—H. Ashman—T. Rice: LJEPOTICA I ZVIJER
DESCRIPTION:Podjela 14. 1. 2025.:\n\nBELLE –&nbsp\;Vanda Winter&nbsp\;\nZ
 VIJER – Ivan Glowatzky&nbsp\;\nGASTON –&nbsp\;Fabijan Pavao Medvešek\
 nLUMIÈRE –&nbsp\;Dražen Bratulić&nbsp\;\nDIN DON – Igor Mešin\nGOS
 POĐA KAMILICA –&nbsp\;Renata Sabljak\nLEFOU –&nbsp\;Ognjen Milovanovi
 ć&nbsp\;\nMAURICE – Adam Končić\nBABETTE – Danijela Pintarić\nPRIM
 ADONNA GRANDE BOCCA –&nbsp\;Vlatka Burić Dujmović&nbsp\;\nMRVICA –&n
 bsp\;Ruben Carović\nMONSIEUR D’ARQUE –&nbsp\;Filip Hozjak&nbsp\;\nBUD
 ALASTE DJEVOJKE –&nbsp\;Lana Blaće\,&nbsp\;Kristina Habuš\,&nbsp\;Iren
 a Raduka\nBLIZANKA 1 / SOL –&nbsp\;Marta Simikić\nBLIZANKA 2 / PAPAR 
 –&nbsp\;Hana Samardžić\n\nZbor\, baletni ansambl i orkestar Kazališta
  „Komedija“\n\nO predstavi pogledajte OVDJE.
ATTACH;FMTTYPE=image/jpeg:https://dev.komedija.hr/www/wp-content/uploads/2
 023/03/Beauty_and_the_beast_FB_1200x1200_01.png
CATEGORIES:izvodi se u KD Vatroslava Lisinskog,[ KAZALIŠTE KOMEDIJA ]
END:VEVENT
BEGIN:VTIMEZONE
TZID:Europe/Zagreb
X-LIC-LOCATION:Europe/Zagreb
BEGIN:STANDARD
DTSTART:20241027T020000
TZOFFSETFROM:+0200
TZOFFSETTO:+0100
TZNAME:CET
END:STANDARD
END:VTIMEZONE
END:VCALENDAR