BEGIN:VCALENDAR
VERSION:2.0
PRODID:-//wp-events-plugin.com//7.2.3.1//EN
TZID:Europe/Zagreb
X-WR-TIMEZONE:Europe/Zagreb
BEGIN:VEVENT
UID:2025@dev.komedija.hr
DTSTART;TZID=Europe/Zagreb:20250115T190000
DTEND;TZID=Europe/Zagreb:20250115T220000
DTSTAMP:20250110T142543Z
URL:https://dev.komedija.hr/www/events/a-menken-h-ashman-t-rice-ljepotica-
 i-zvijer-52/
SUMMARY:A. Menken—H. Ashman—T. Rice: LJEPOTICA I ZVIJER
DESCRIPTION:Podjela 15. 1. 2025.:\n\nBELLE –&nbsp\;Renata Sabljak&nbsp\;\
 nZVIJER – Ivan Glowatzky&nbsp\;\nGASTON –&nbsp\;Fabijan Pavao Medveše
 k\nLUMIÈRE – Dražen Bratulić&nbsp\;\nDIN DON –&nbsp\;Goran Malus\nG
 OSPOĐA KAMILICA –&nbsp\;Jasna Bilušić\nLEFOU –&nbsp\;Ognjen Milovan
 ović&nbsp\;\nMAURICE –&nbsp\;Adalbert Turner&nbsp\;\nBABETTE –&nbsp\;
 Mila Elegović\nPRIMADONNA GRANDE BOCCA – Sandra Bagarić\nMRVICA –&nb
 sp\;Ruben Carović&nbsp\;\nMONSIEUR D’ARQUE – Neven Stipčić\nBUDALAS
 TE DJEVOJKE –&nbsp\;Lana Blaće\,&nbsp\;Kristina Habuš\,&nbsp\;Irena Ra
 duka\nBLIZANKA 1 / SOL –&nbsp\;Marta Simikić\nBLIZANKA 2 / PAPAR –&nb
 sp\;Hana Samardžić\n\nZbor\, baletni ansambl i orkestar Kazališta „Ko
 medija“\n\nO predstavi pogledajte OVDJE.
ATTACH;FMTTYPE=image/jpeg:https://dev.komedija.hr/www/wp-content/uploads/2
 023/03/Beauty_and_the_beast_FB_1200x1200_01.png
CATEGORIES:izvodi se u KD Vatroslava Lisinskog,[ KAZALIŠTE KOMEDIJA ]
END:VEVENT
BEGIN:VTIMEZONE
TZID:Europe/Zagreb
X-LIC-LOCATION:Europe/Zagreb
BEGIN:STANDARD
DTSTART:20241027T020000
TZOFFSETFROM:+0200
TZOFFSETTO:+0100
TZNAME:CET
END:STANDARD
END:VTIMEZONE
END:VCALENDAR