BEGIN:VCALENDAR
VERSION:2.0
PRODID:-//wp-events-plugin.com//7.2.3.1//EN
TZID:Europe/Zagreb
X-WR-TIMEZONE:Europe/Zagreb
BEGIN:VEVENT
UID:2027@dev.komedija.hr
DTSTART;TZID=Europe/Zagreb:20250117T190000
DTEND;TZID=Europe/Zagreb:20250117T220000
DTSTAMP:20241104T142321Z
URL:https://dev.komedija.hr/www/events/a-menken-h-ashman-t-rice-ljepotica-
 i-zvijer-54/
SUMMARY:A. Menken—H. Ashman—T. Rice: LJEPOTICA I ZVIJER
DESCRIPTION:O predstavi pogledajte OVDJE.
ATTACH;FMTTYPE=image/jpeg:https://dev.komedija.hr/www/wp-content/uploads/2
 023/03/Beauty_and_the_beast_FB_1200x1200_01.png
CATEGORIES:izvodi se u KD Vatroslava Lisinskog,[ KAZALIŠTE KOMEDIJA ]
END:VEVENT
BEGIN:VTIMEZONE
TZID:Europe/Zagreb
X-LIC-LOCATION:Europe/Zagreb
BEGIN:STANDARD
DTSTART:20241027T020000
TZOFFSETFROM:+0200
TZOFFSETTO:+0100
TZNAME:CET
END:STANDARD
END:VTIMEZONE
END:VCALENDAR