BEGIN:VCALENDAR
VERSION:2.0
PRODID:-//wp-events-plugin.com//7.2.3.1//EN
TZID:Europe/Zagreb
X-WR-TIMEZONE:Europe/Zagreb
BEGIN:VEVENT
UID:2347@dev.komedija.hr
DTSTART;TZID=Europe/Zagreb:20260117T180000
DTEND;TZID=Europe/Zagreb:20260117T210000
DTSTAMP:20260112T121903Z
URL:https://dev.komedija.hr/www/events/a-menken-h-ashman-t-rice-ljepotica-
 i-zvijer-59/
SUMMARY:A. Menken—H. Ashman—T. Rice: LJEPOTICA I ZVIJER
DESCRIPTION:Podjela 17. 1. 2026.:\n\nBELLE – Buga Marija Šimić\nZVIJER 
 – Igor Drvenkar\nGASTON – Fabijan Pavao Medvešek\nLUMIÈRE –&nbsp\;
 Dražen Bratulić\nDIN DON –&nbsp\;Goran Malus&nbsp\;\nGOSPOĐA KAMILICA
  – &nbsp\;Jasna Bilušić\nLEFOU – Jan Kovačić\nMAURICE – Ervin Ba
 učić\nBABETTE – Danijela Pintarić\nPRIMADONNA GRANDE BOCCA – Sandra
  Bagarić\nMRVICA – Leonora Herceg\nMONSIEUR D’ARQUE – Neven Stipči
 ć\nBUDALASTE DJEVOJKE –&nbsp\;Lana Blaće\,&nbsp\;Kristina Habuš\,&nbs
 p\;Irena Raduka\nBLIZANKA 1 / SOL –&nbsp\;Marta Simikić\nBLIZANKA 2 / P
 APAR –&nbsp\;Hana Samardžić\n\nZbor\, baletni ansambl i orkestar Kazal
 išta „Komedija“\n\nViše o predstavi pogledajte OVDJE.
ATTACH;FMTTYPE=image/jpeg:https://dev.komedija.hr/www/wp-content/uploads/2
 023/03/Beauty_and_the_beast_FB_1200x1200_01.png
CATEGORIES:izvodi se u KD Vatroslava Lisinskog,[ KAZALIŠTE KOMEDIJA ]
LOCATION:https://www.ulaznice.hr/web/event-browse/8/20055
END:VEVENT
BEGIN:VTIMEZONE
TZID:Europe/Zagreb
X-LIC-LOCATION:Europe/Zagreb
BEGIN:STANDARD
DTSTART:20251026T020000
TZOFFSETFROM:+0200
TZOFFSETTO:+0100
TZNAME:CET
END:STANDARD
END:VTIMEZONE
END:VCALENDAR