BEGIN:VCALENDAR
VERSION:2.0
PRODID:-//wp-events-plugin.com//7.2.3.1//EN
TZID:Europe/Zagreb
X-WR-TIMEZONE:Europe/Zagreb
BEGIN:VEVENT
UID:2348@dev.komedija.hr
DTSTART;TZID=Europe/Zagreb:20260116T190000
DTEND;TZID=Europe/Zagreb:20260116T220000
DTSTAMP:20260112T120520Z
URL:https://dev.komedija.hr/www/events/a-menken-h-ashman-t-rice-ljepotica-
 i-zvijer-60/
SUMMARY:A. Menken—H. Ashman—T. Rice: LJEPOTICA I ZVIJER
DESCRIPTION:Podjela 16. 1. 2026.:\n\nBELLE – Vanda Winter\nZVIJER –&nbs
 p\;Ivan Glowatzky&nbsp\;\nGASTON –&nbsp\;Fabijan Pavao Medvešek\nLUMIÈ
 RE – Dražen Bratulić\nDIN DON –&nbsp\;Igor Mešin&nbsp\;\nGOSPOĐA K
 AMILICA – &nbsp\;Renata Sabljak\nLEFOU – Ognjen Milovanović\nMAURICE 
 –&nbsp\;Adalbert Turner&nbsp\;\nBABETTE – Mila Elegović\nPRIMADONNA G
 RANDE BOCCA – Vlatka Burić Dujmović\nMRVICA – David Novosel\nMONSIEU
 R D’ARQUE – Filip Hozjak\nBUDALASTE DJEVOJKE –&nbsp\;Lana Blaće\,&n
 bsp\;Kristina Habuš\,&nbsp\;Irena Raduka\nBLIZANKA 1 / SOL –&nbsp\;Mart
 a Simikić\nBLIZANKA 2 / PAPAR –&nbsp\;Hana Samardžić\n\nZbor\, baletn
 i ansambl i orkestar Kazališta „Komedija“\n\nViše o predstavi pogled
 ajte OVDJE.
ATTACH;FMTTYPE=image/jpeg:https://dev.komedija.hr/www/wp-content/uploads/2
 023/03/Beauty_and_the_beast_FB_1200x1200_01.png
CATEGORIES:izvodi se u KD Vatroslava Lisinskog,[ KAZALIŠTE KOMEDIJA ]
LOCATION:https://www.ulaznice.hr/web/event-browse/8/20054
END:VEVENT
BEGIN:VTIMEZONE
TZID:Europe/Zagreb
X-LIC-LOCATION:Europe/Zagreb
BEGIN:STANDARD
DTSTART:20251026T020000
TZOFFSETFROM:+0200
TZOFFSETTO:+0100
TZNAME:CET
END:STANDARD
END:VTIMEZONE
END:VCALENDAR