BEGIN:VCALENDAR
VERSION:2.0
PRODID:-//wp-events-plugin.com//7.2.3.1//EN
TZID:Europe/Zagreb
X-WR-TIMEZONE:Europe/Zagreb
BEGIN:VEVENT
UID:2241@dev.komedija.hr
DTSTART;TZID=Europe/Zagreb:20250507T210000
DTEND;TZID=Europe/Zagreb:20250507T230000
DTSTAMP:20250502T103541Z
URL:https://dev.komedija.hr/www/events/adalbert-turner-juci-full-bag-orkes
 tar-koncert-2/
SUMMARY:ADALBERT  TURNER - JUCI & FULL  BAG  ORKESTAR\, koncert
DESCRIPTION:ADALBERT&nbsp\; TURNER - JUCI &amp\; FULL&nbsp\; BAG&nbsp\; ORK
 ESTAR\n\nNakon odličnog prvog koncerta U susret Valentinovu koji se održ
 ao 13. veljače u Klubu Kazališta Komedija\, ponovno možete uživati uz 
 pjesme Franka Sinatre\, Tom Jonesa\, Louis Prime\, Louis Amstronga\, Joe C
 ockera\, Stinga i drugih...&nbsp\;\n\nVidimo se u srijedu\, 7. svibnja od 
 21 sat u Cesarčevoj 2...\n\nUlaznice po cijeni od 18 € (na dan koncerta
  20 €) dostupne na blagajnama Oktogon i Kaptol te online na ulaznice.hr!
ATTACH;FMTTYPE=image/jpeg:https://dev.komedija.hr/www/wp-content/uploads/2
 025/02/adalbert-turner_WEB_feature-post_350x245.png
CATEGORIES:KLUB KAZALIŠTA KOMEDIJA (Cesarčeva 2)
END:VEVENT
BEGIN:VTIMEZONE
TZID:Europe/Zagreb
X-LIC-LOCATION:Europe/Zagreb
BEGIN:DAYLIGHT
DTSTART:20250330T030000
TZOFFSETFROM:+0100
TZOFFSETTO:+0200
TZNAME:CEST
END:DAYLIGHT
END:VTIMEZONE
END:VCALENDAR