BEGIN:VCALENDAR
VERSION:2.0
PRODID:-//wp-events-plugin.com//7.2.3.1//EN
TZID:Europe/Zagreb
X-WR-TIMEZONE:Europe/Zagreb
BEGIN:VEVENT
UID:2135@dev.komedija.hr
DTSTART;TZID=Europe/Zagreb:20250213T203000
DTEND;TZID=Europe/Zagreb:20250213T223000
DTSTAMP:20250211T111031Z
URL:https://dev.komedija.hr/www/events/adalbert-turner-juci-full-bag-orkes
 tar-u-susret-valentinovu/
SUMMARY:ADALBERT  TURNER - JUCI & FULL  BAG  ORKESTAR : „U SUSRET VALENTI
 NOVU“
DESCRIPTION:ADALBERT&nbsp\; TURNER - JUCI &amp\; FULL&nbsp\; BAG&nbsp\; ORK
 ESTAR\n\n„U SUSRET VALENTINOVU“\n\n&nbsp\;Uz pjesme Franka Sinatre\, T
 om Jonesa\, Louis Prime\, Louis Amstronga\, Joe Cockera\, Stinga i drugih.
 ..\n\nDobro došli!
ATTACH;FMTTYPE=image/jpeg:https://dev.komedija.hr/www/wp-content/uploads/2
 025/01/adalbert-turner_WEB_feature-post_350x245-1.png
CATEGORIES:KLUB KAZALIŠTA KOMEDIJA (Cesarčeva 2)
END:VEVENT
BEGIN:VTIMEZONE
TZID:Europe/Zagreb
X-LIC-LOCATION:Europe/Zagreb
BEGIN:STANDARD
DTSTART:20241027T020000
TZOFFSETFROM:+0200
TZOFFSETTO:+0100
TZNAME:CET
END:STANDARD
END:VTIMEZONE
END:VCALENDAR