BEGIN:VCALENDAR
VERSION:2.0
PRODID:-//wp-events-plugin.com//7.2.3.1//EN
TZID:Europe/Zagreb
X-WR-TIMEZONE:Europe/Zagreb
BEGIN:VEVENT
UID:1349@dev.komedija.hr
DTSTART;TZID=Europe/Zagreb:20220303T200000
DTEND;TZID=Europe/Zagreb:20220303T210000
DTSTAMP:20220209T090439Z
URL:https://dev.komedija.hr/www/events/adam-scena-r-krajinovic-sund-nas-sv
 agdasnji-gostovanje-predstave-2/
SUMMARY:Adam scena: R. Krajinović: ŠUND NAŠ SVAGDAŠNJI\, gostovanje pre
 dstave
DESCRIPTION:
CATEGORIES:KLUB KAZALIŠTA KOMEDIJA (Cesarčeva 2)
END:VEVENT
BEGIN:VTIMEZONE
TZID:Europe/Zagreb
X-LIC-LOCATION:Europe/Zagreb
BEGIN:STANDARD
DTSTART:20211031T020000
TZOFFSETFROM:+0200
TZOFFSETTO:+0100
TZNAME:CET
END:STANDARD
END:VTIMEZONE
END:VCALENDAR