BEGIN:VCALENDAR
VERSION:2.0
PRODID:-//wp-events-plugin.com//7.2.3.1//EN
TZID:Europe/Zagreb
X-WR-TIMEZONE:Europe/Zagreb
BEGIN:VEVENT
UID:2339@dev.komedija.hr
DTSTART;TZID=Europe/Zagreb:20251202T200000
DTEND;TZID=Europe/Zagreb:20251202T220000
DTSTAMP:20251027T141128Z
URL:https://dev.komedija.hr/www/events/adventski-koncert-irme-dragicevic/
SUMMARY:Adventski koncert Irme Dragičević
DESCRIPTION:“It’s the most wonderful time of the year…” – crossov
 er spektakl s daškom cabareta\n\nNakon prošlogodišnjeg rasprodanog konc
 erta i zapaženog nastupa na Dori 2025.\, crossover pjevačica Irma Dragi
 čević vraća se na scenu u svom prepoznatljivom\, blagdanskom izdanju.\n
 \nU Klubu Kazališta Komedija u Zagrebu\, 02. prosinca 2025. s početkom u
  20 sati\, Irma će održati koncert pod nazivom “It’s the most wonder
 ful time of the year…” – crossover spektakl s daškom cabareta koji 
 spaja blagdansku čaroliju\, emociju i glazbenu eleganciju.\n\nInspirirana
  sezonom radosti i slavlja\, Irma je osmislila program koji donosi pregrš
 t dobre zabave i intimnu atmosferu u kabaretskom prostoru Kluba Kazališta
  Komedija. Njezin prepoznatljivi crossover stil\, koji s lakoćom spaja kl
 asiku\, pop i jazz\, pratit će vrhunski glazbenici:\nJan Jakovljev (gitar
 a)\, Tomislav Parmać (klavir)\, Leopold Stašić (violina)\, Mario Klari
 ć (bubnjevi) i Dragutin Roić (saksofon).\n\nPoseban gost večeri bit će
  svjetski priznati bariton Leon Košavić\, a publiku očekuje i gost izne
 nađenja koji će dodatno začiniti ovu blagdansku večer.\n\nPublika koja
  je prošle godine ispunila dvoranu do posljednjeg mjesta zna što može o
 čekivati – vrhunsku glazbu\, emociju i blagdansku toplinu koje Irma s l
 akoćom prenosi na scenu.\n\nUlaznice dostupne online na ulaznice.hr te na
  blagajni Kluba Kazališta Komedija. Radno vrijeme blagajne je od 18:30 do
  21:30\,&nbsp\;isključivo na dane kada se održavaju predstave/programi u
  Klubu.
ATTACH;FMTTYPE=image/jpeg:https://dev.komedija.hr/www/wp-content/uploads/2
 025/10/Irma_WEB_feature-post_350x245.png
CATEGORIES:KLUB KAZALIŠTA KOMEDIJA (Cesarčeva 2)
LOCATION:https://www.ulaznice.hr/web/event-browse/8/20047
END:VEVENT
BEGIN:VTIMEZONE
TZID:Europe/Zagreb
X-LIC-LOCATION:Europe/Zagreb
BEGIN:STANDARD
DTSTART:20251026T020000
TZOFFSETFROM:+0200
TZOFFSETTO:+0100
TZNAME:CET
END:STANDARD
END:VTIMEZONE
END:VCALENDAR