BEGIN:VCALENDAR
VERSION:2.0
PRODID:-//wp-events-plugin.com//7.2.3.1//EN
TZID:Europe/Zagreb
X-WR-TIMEZONE:Europe/Zagreb
BEGIN:VEVENT
UID:2042@dev.komedija.hr
DTSTART;TZID=Europe/Zagreb:20241208T210000
DTEND;TZID=Europe/Zagreb:20241208T230000
DTSTAMP:20241115T091925Z
URL:https://dev.komedija.hr/www/events/aire-alto-najljepse-pjesme-latinske
 -amerike/
SUMMARY:AireAlto\, najljepše pjesme Latinske Amerike
DESCRIPTION:Dobro došli\, bienvenidos!\n\n&nbsp\;AireAlto je glazbeni sast
 av okupljen u strasti prema bogatoj i tajanstvenoj kulturi Latinske Amerik
 e. Iako sastavljen od glazbenika koji uspješno i često surađuju u sklop
 u drugih srodnih sastava\, AireAlto predstavlja drugačiji izričaj lation
 američke glazbe\, često koristeći prakse jednog žanra u nekom drugom\,
  pronalazeći pritom skrivenu međusobnu povezanost. AireAlto čine: Davor
 ka Androić (solo vokal)\, Hrvoje Ton (solo gitara)\, Ivan Androić (solo 
 vokal i ritam gitara)\, Hrvoje Cicvarić (guitarron)\, Leonel Salazar (uda
 raljke) te Luka Magdalenić (solo vokal i violina).
ATTACH;FMTTYPE=image/jpeg:https://dev.komedija.hr/www/wp-content/uploads/2
 024/11/aire-alto_1200x1200.png
CATEGORIES:KLUB KAZALIŠTA KOMEDIJA (Cesarčeva 2)
END:VEVENT
BEGIN:VTIMEZONE
TZID:Europe/Zagreb
X-LIC-LOCATION:Europe/Zagreb
BEGIN:STANDARD
DTSTART:20241027T020000
TZOFFSETFROM:+0200
TZOFFSETTO:+0100
TZNAME:CET
END:STANDARD
END:VTIMEZONE
END:VCALENDAR