BEGIN:VCALENDAR
VERSION:2.0
PRODID:-//wp-events-plugin.com//7.2.3.1//EN
TZID:Europe/Zagreb
X-WR-TIMEZONE:Europe/Zagreb
BEGIN:VEVENT
UID:2123@dev.komedija.hr
DTSTART;TZID=Europe/Zagreb:20250205T200000
DTEND;TZID=Europe/Zagreb:20250205T220000
DTSTAMP:20250108T150908Z
URL:https://dev.komedija.hr/www/events/ana-kal-mat-koncertna-promocija-alb
 uma-u-snu/
SUMMARY:Ana Kal Mat: Koncertna promocija albuma "U snu"
DESCRIPTION:Ana Kal Mat predstavlja svoj kantautorski prvijenac „U snu“
 . Album\, na kojem su se okupili eminentni glazbenici\, zanimljiv je spoj 
 hrvatskih tekstova te brazilskih i južnoameričkih ritmova.\n\nIdeja konc
 epta albuma izrasla je iz njihove suradnje na projektu Canto do Brasil i v
 elike ljubavi prema brazilskoj glazbi\, njezinoj poetičnosti i ritmovima.
  Ana Kal Mat pseudonim je glazbenice Ane Matijević\, pjevačice benda Can
 to do Brasil i jedne od pjevačica Bossa Bande.\n\nGlazbenici koji su sudj
 elovali u nastanku albuma i pridonijeli konačnoj estetici zvuka su Nikola
  Šantek na klaviru\, Golnar Mohajeri na violončelu\, Marin Živković na
  saksofonu\, Zvonimir Šestak na kontrabasu i Pedro Rosenthal Campuzano na
  udaraljkama. Na koncertnoj promociji albuma pridružit će im se Bruna Ma
 tić na bubnjevima te posebni gosti Mirjana Vladić i Damian Humski.&nbsp\
 ;\n\nKako sve to zvuči uživo i odakle ovi glazbenici vuku inspiraciju sa
 znajte 05. veljače u lijepom ambijentu Kluba Kazališta Komedija. &nbsp\;
 \n\nUlaznice po cijeni od 15 € dostupne na blagajnama Oktogon i Kaptol t
 e online na ulaznice.hr!\n\nhttps://bfan.link/AnaKalMat-U-snu\n\nwww.anaka
 lmat.com
ATTACH;FMTTYPE=image/jpeg:https://dev.komedija.hr/www/wp-content/uploads/2
 025/01/U_snu_WEB_feature-post_350x245.jpg
CATEGORIES:KLUB KAZALIŠTA KOMEDIJA (Cesarčeva 2)
END:VEVENT
BEGIN:VTIMEZONE
TZID:Europe/Zagreb
X-LIC-LOCATION:Europe/Zagreb
BEGIN:STANDARD
DTSTART:20241027T020000
TZOFFSETFROM:+0200
TZOFFSETTO:+0100
TZNAME:CET
END:STANDARD
END:VTIMEZONE
END:VCALENDAR