BEGIN:VCALENDAR
VERSION:2.0
PRODID:-//wp-events-plugin.com//7.2.3.1//EN
TZID:Europe/Zagreb
X-WR-TIMEZONE:Europe/Zagreb
BEGIN:VEVENT
UID:1926@dev.komedija.hr
DTSTART;TZID=Europe/Zagreb:20240519T200000
DTEND;TZID=Europe/Zagreb:20240519T220000
DTSTAMP:20240408T130222Z
URL:https://dev.komedija.hr/www/events/argentine-tango-duo-villarreal-crom
 -live-concert-milonga/
SUMMARY:Argentine Tango Duo Villarreal Crom Live Concert + Milonga
DESCRIPTION:Argentine tango musicians Juan Villarreal and Patricio Crom bri
 ng their artistry to Zagreb! Join us for an incredible live music concert 
 + milonga happening Sunday\, May 19th at 8pm.&nbsp\;\n\nThese well known t
 ango guitarists and singer’s music are pure poetry- intimate\, energized
 \, and incredibly danceable. They play a perfect mix of well known hits fr
 om the golden age of tango as well as original compositions.\n\nJuan and P
 atricio began their activity in 2010\, playing tangos in milongas and club
 s in&nbsp\;Buenos Aires city. From the beginning\, the Villarreal Crom duo
  tried to find a unique 22aesthetic and style that\, over the years and re
 cordings\, solidified the sound that\n\ncharacterizes them. Today\, they a
 re one of the most recognized duos in the tango scene in Buenos Aires and 
 the world\, having embarked on countless tours across Latin America\, Euro
 pe\, and the United States. They have released 5 albums: "De Corte Románt
 ico (2012)\," "Cinco tonos (2015)\," "En la luna de Valencia (2017)\," "D
 ’Arienzo en guitarras (2022)\," and their latest work "Moderno Trovador 
 (2023)\," which consists entirely of their own compositions.
ATTACH;FMTTYPE=image/jpeg:https://dev.komedija.hr/www/wp-content/uploads/2
 024/04/tango.png
CATEGORIES:KLUB KAZALIŠTA KOMEDIJA (Cesarčeva 2)
END:VEVENT
BEGIN:VTIMEZONE
TZID:Europe/Zagreb
X-LIC-LOCATION:Europe/Zagreb
BEGIN:DAYLIGHT
DTSTART:20240331T030000
TZOFFSETFROM:+0100
TZOFFSETTO:+0200
TZNAME:CEST
END:DAYLIGHT
END:VTIMEZONE
END:VCALENDAR