BEGIN:VCALENDAR
VERSION:2.0
PRODID:-//wp-events-plugin.com//7.2.3.1//EN
TZID:Europe/Zagreb
X-WR-TIMEZONE:Europe/Zagreb
BEGIN:VEVENT
UID:1611@dev.komedija.hr
DTSTART;TZID=Europe/Zagreb:20230307T200000
DTEND;TZID=Europe/Zagreb:20230307T213000
DTSTAMP:20230228T161303Z
URL:https://dev.komedija.hr/www/events/arijana-culina-varas-ga-ne-ostavlja
 s-ga/
SUMMARY:Arijana Čulina: VARAŠ GA\, NE OSTAVLJAŠ GA
DESCRIPTION:Predstavu VARAŠ GA\, NE OSTAVLJAŠ GA' što je ujedino i citat
  Edith Piaff napisala je Arijana Čulina. Tekst je spoj naizgled nespojivo
 g\, francuskih šansona i duhovitih komentara dviju Splićanki koje govore
  o ljubavnom životu šansonjera te ljubavi i braku općenito. Uspoređuju
  kako je to u svijetu\, a kako kod nas\, što uvijek izaziva smijeh&nbsp\;
  zbog razlika u načinu života i poimanja stvari. U predstavi se izvodi 1
 2 poznatih šansona koje su obilježile život šansonjera o kojima se gov
 ori i čije se pjesme pjevaju\; Edith Piaf\, Dalida\, Charles Aznavour\, C
 arli Caplin\, Mireille Mathieu. Uz Arijanu Čulinu u predstavi igra i Mire
 la Meić s kojom je već ranije surađivala na projektu francuskih šanson
 a. Pijanist je Zoran Velić zaposlen na glazbenoj akademiji u Splitu ili &
 nbsp\;Danira Ipavec koja uz klavir svira i harmoniku. Predstava je izvođe
 na i na festivalu ‘Gumbekovi dani’ i na Splitskom ljetu gdje je dobila
  sjajne kritike. Igrana je i u Dubrovniku\, Osijeku\, Splitu i Zagrebu na 
 Danima frankofonije.
ATTACH;FMTTYPE=image/jpeg:https://dev.komedija.hr/www/wp-content/uploads/2
 023/02/culina.jpg
CATEGORIES:KLUB KAZALIŠTA KOMEDIJA (Cesarčeva 2)
END:VEVENT
BEGIN:VTIMEZONE
TZID:Europe/Zagreb
X-LIC-LOCATION:Europe/Zagreb
BEGIN:STANDARD
DTSTART:20221030T020000
TZOFFSETFROM:+0200
TZOFFSETTO:+0100
TZNAME:CET
END:STANDARD
END:VTIMEZONE
END:VCALENDAR