BEGIN:VCALENDAR
VERSION:2.0
PRODID:-//wp-events-plugin.com//7.2.3.1//EN
TZID:Europe/Zagreb
X-WR-TIMEZONE:Europe/Zagreb
BEGIN:VEVENT
UID:1665@dev.komedija.hr
DTSTART;TZID=Europe/Zagreb:20230511T200000
DTEND;TZID=Europe/Zagreb:20230511T211500
DTSTAMP:20230511T073054Z
URL:https://dev.komedija.hr/www/events/b-brecht-kako-je-umro-prastric-augu
 st-ispitna-predstava-studenata-adu-2/
SUMMARY:KAKO JE UMRO PRASTRIC AUGUST? – diplomski ispit iz glume
DESCRIPTION:\n\nJedan od najpoznatijih tekstova 20. stoljeća svakako je Pi
 r malograđana Bertolta Brechta. Često je izvođen i u Hrvatskoj. Napisan
  1919. godine\, događa se na jednoj građanskoj svadbi. Kroz lica koja je
 dva da imaju imena (Otac\, Majka\, Mladoženja\, Nevjesta\, Sestra\, Žena
 \, Muž…) kritički i duhovito\, cinično i urnebesno površno\, progova
 ra o građanskom tj. malograđanskom društvu tog vremena\, o ljudima koji
  će se u skoroj budućnosti naći pred izazovom novog nekog vremena\, tri
 desetih godina 20.stoljeća.\n\nStudenti ADU diplomske godine glume\, pod 
 vodstvom profesora Krešimira Dolenčića i asistentice Ksenije Marinkovi
 ć taj su tekst uzeli kao predložak za predstavu o jednoj današnjoj svad
 bi. Predložak koji se izvodi\, zajedničko je djelo mladih glumaca i njih
 ovih profesora i suradnika. Nazvali smo ga „Kako je umro prastric August
 “?\n\nKako prije sto godina tako i sada svi su motivi isti\, kao naravno
  na svim svatovima. Lica su ista\, a događaji se ponavljaju. Rijetko tko 
 kaže ono što misli\, pjeva se\, pleše\, ljubi\, vrijeđa…Emocije su p
 ovišene i teško ih je kontrolirati\, puca se po šavovima koji se brzo m
 oraju zakrpati. Svatovi idu\, idu i idu…Energija je zarazna\, teško se 
 othrvati neke skrivene stvari izlaze iz ormara…nešto se govori što se 
 i ne bi smjelo…glazba\, piće i atmosfera uvlače i gledatelje i izvođa
 če u svoje kolo.\n\nKlub kazališta Komedija je odlična sala za ovu svat
 ovsku predstavu\, idealno mjesto gdje će publika zajedno s glumcima prosl
 aviti početak novog zajedničkog života naših Marije i Jakova.\n\nS ovo
 m predstavom jedna generacija glumaca završava svoj studij na Akademiji d
 ramske umjetnosti. U tome im pomaže i nekoliko gostiju\, također mladih\
 , netom diplomiranih kolega.\n\n&nbsp\;\n\nIgraju:\n\nMelody Martišković
 \, Tea Harčević\, Martina Mandek\, Matija Gašpari\, Igor Jurinić\, Fab
 ijan Komljenović\, Lara Nekić\, Matej Đurđević i Vid Ćosić\n\n&nbsp
 \;
ATTACH;FMTTYPE=image/jpeg:https://dev.komedija.hr/www/wp-content/uploads/2
 023/05/plakat_august-scaled.jpg
CATEGORIES:KLUB KAZALIŠTA KOMEDIJA (Cesarčeva 2)
END:VEVENT
BEGIN:VTIMEZONE
TZID:Europe/Zagreb
X-LIC-LOCATION:Europe/Zagreb
BEGIN:DAYLIGHT
DTSTART:20230326T030000
TZOFFSETFROM:+0100
TZOFFSETTO:+0200
TZNAME:CEST
END:DAYLIGHT
END:VTIMEZONE
END:VCALENDAR