BEGIN:VCALENDAR
VERSION:2.0
PRODID:-//wp-events-plugin.com//7.2.3.1//EN
TZID:Europe/Zagreb
X-WR-TIMEZONE:Europe/Zagreb
BEGIN:VEVENT
UID:2290@dev.komedija.hr
DTSTART;TZID=Europe/Zagreb:20250925T203000
DTEND;TZID=Europe/Zagreb:20250925T230000
DTSTAMP:20250925T104209Z
URL:https://dev.komedija.hr/www/events/cabaret-esprit-de-paris-by-miro-ung
 ar-101/
SUMMARY:Cabaret "Esprit de Paris" by Miro Ungar
DESCRIPTION:[maxbutton id="1"]
ATTACH;FMTTYPE=image/jpeg:https://dev.komedija.hr/www/wp-content/uploads/2
 025/06/Cabaret-Esprit-de-Paris-by-Miro-Ungar_WEB_feature-post_350x245.png
CATEGORIES:KLUB KAZALIŠTA KOMEDIJA (Cesarčeva 2),[ KAZALIŠTE KOMEDIJA ]
LOCATION:https://www.ulaznice.hr/web/event-browse/8/19608
END:VEVENT
BEGIN:VTIMEZONE
TZID:Europe/Zagreb
X-LIC-LOCATION:Europe/Zagreb
BEGIN:DAYLIGHT
DTSTART:20250330T030000
TZOFFSETFROM:+0100
TZOFFSETTO:+0200
TZNAME:CEST
END:DAYLIGHT
END:VTIMEZONE
END:VCALENDAR