BEGIN:VCALENDAR
VERSION:2.0
PRODID:-//wp-events-plugin.com//7.2.3.1//EN
TZID:Europe/Zagreb
X-WR-TIMEZONE:Europe/Zagreb
BEGIN:VEVENT
UID:2253@dev.komedija.hr
DTSTART;TZID=Europe/Zagreb:20250516T210000
DTEND;TZID=Europe/Zagreb:20250516T233000
DTSTAMP:20250508T115043Z
URL:https://dev.komedija.hr/www/events/caiman-verde-koncert-2/
SUMMARY:Caiman Verde: Buena Vista Social Club\, koncert
DESCRIPTION:Dragi naši\, došlo je vrijeme da opet malo razdrmamo kukove u
  Klubu Kazališta Komedija\, ovaj put i sa plesnim podijem!\n\nBiti će na
 m gušt odsvirati vam latino uspješnice u širokom sastavu\, stoga oslobo
 dite ovaj dan za sebe i svoje drage\, mi vas čekamo.\n\nNos vemos!!!\n\n&
 nbsp\;\n\nGoran Vilupek - vokal / konge\n\nMarin Gregov - timbales\n\nDank
 o Burić - bas / prateći vokal\n\nNikola Šantek - klavir\n\nAdrian Nasi
 ć - markas / guiro\n\nNikola Cvetković - truba\n\nKrunoslav Jurić - git
 ara / prateći vokal\n\nKristina Soledad - ženski vokal\n\n&nbsp\;
ATTACH;FMTTYPE=image/jpeg:https://dev.komedija.hr/www/wp-content/uploads/2
 025/04/Caiman_Verde_WEB_feature-post_350x245.jpg
CATEGORIES:KLUB KAZALIŠTA KOMEDIJA (Cesarčeva 2)
LOCATION:https://www.ulaznice.hr/web/event-browse/8/19387
END:VEVENT
BEGIN:VTIMEZONE
TZID:Europe/Zagreb
X-LIC-LOCATION:Europe/Zagreb
BEGIN:DAYLIGHT
DTSTART:20250330T030000
TZOFFSETFROM:+0100
TZOFFSETTO:+0200
TZNAME:CEST
END:DAYLIGHT
END:VTIMEZONE
END:VCALENDAR