BEGIN:VCALENDAR
VERSION:2.0
PRODID:-//wp-events-plugin.com//7.2.3.1//EN
TZID:Europe/Zagreb
X-WR-TIMEZONE:Europe/Zagreb
BEGIN:VEVENT
UID:980@dev.komedija.hr
DTSTART;TZID=Europe/Zagreb:20200227T193000
DTEND;TZID=Europe/Zagreb:20200227T220000
DTSTAMP:20200109T104618Z
URL:https://dev.komedija.hr/www/events/carobni-broadway-10/
SUMMARY:ČAROBNI BROADWAY
DESCRIPTION:
CATEGORIES:Glazbena pretplata / Ulaznice i u slobodnoj prodaji
END:VEVENT
BEGIN:VTIMEZONE
TZID:Europe/Zagreb
X-LIC-LOCATION:Europe/Zagreb
BEGIN:STANDARD
DTSTART:20191027T020000
TZOFFSETFROM:+0200
TZOFFSETTO:+0100
TZNAME:CET
END:STANDARD
END:VTIMEZONE
END:VCALENDAR