BEGIN:VCALENDAR
VERSION:2.0
PRODID:-//wp-events-plugin.com//7.2.3.1//EN
TZID:Europe/Zagreb
X-WR-TIMEZONE:Europe/Zagreb
BEGIN:VEVENT
UID:2023@dev.komedija.hr
DTSTART;TZID=Europe/Zagreb:20241126T200000
DTEND;TZID=Europe/Zagreb:20241126T220000
DTSTAMP:20241016T122308Z
URL:https://dev.komedija.hr/www/events/croatia-records-festival-kantarion-
 2/
SUMMARY:Croatia Records: Festival kantarion
DESCRIPTION:
ATTACH;FMTTYPE=image/jpeg:https://dev.komedija.hr/www/wp-content/uploads/2
 024/10/Festival_kantarion_FB-objava_1200x1200.png
CATEGORIES:KLUB KAZALIŠTA KOMEDIJA (Cesarčeva 2)
END:VEVENT
BEGIN:VTIMEZONE
TZID:Europe/Zagreb
X-LIC-LOCATION:Europe/Zagreb
BEGIN:STANDARD
DTSTART:20241027T020000
TZOFFSETFROM:+0200
TZOFFSETTO:+0100
TZNAME:CET
END:STANDARD
END:VTIMEZONE
END:VCALENDAR