BEGIN:VCALENDAR
VERSION:2.0
PRODID:-//wp-events-plugin.com//7.2.3.1//EN
TZID:Europe/Zagreb
X-WR-TIMEZONE:Europe/Zagreb
BEGIN:VEVENT
UID:2319@dev.komedija.hr
DTSTART;TZID=Europe/Zagreb:20251113T210000
DTEND;TZID=Europe/Zagreb:20251113T230000
DTSTAMP:20251113T130032Z
URL:https://dev.komedija.hr/www/events/damirov-django-group/
SUMMARY:Damirov Django Group
DESCRIPTION:Originalni band slavnog jazz gitarista Damira Kukuruzovića nas
 tavlja svirati u njegovu čast\, čuvajući uspomenu&nbsp\;na osnivača i 
 karizmatičnog glazbenika koji je gypsy jazz približio tisućama ljudi.&n
 bsp\;\n\nKroz glazbu Damirovog Django groupa Damirov glazbeni duh i dalje 
 živi\, kroz svaki riff\, solo i improvizaciju.&nbsp\;\n\nViolina - Bruno 
 Urlić\n\nGitara - Juraj Markač\n\nKlavir - Petar Ćulibrk\n\nBas - Želj
 ko Bilbija\n\nGitara - Miroslav Ćehaić\n\nBubnjevi - Goran Brebrić\n\n&
 nbsp\;\n\nDamir Kukuruzović\,&nbsp\; jazz gitarist\, dobitnik brojnih gla
 zbenih priznanja i najistaknutiji&nbsp\; hrvatski predstavnik glazbe Djang
 a Reinhardta\, naglo nas je napustio u prosincu 2020. godine ostavivši za
  sobom bogatu glazbenu ostavštinu i svoj Django Group koji je utemeljio 2
 005. g. i od tada su bili neizostavni dio svih relevantnih festivala u zem
 lji i inozemstvu. Sam Kukuruzović ubrajao se u red gitarističkih virtuoz
 a koji je uz iznimne sviračke vještine uspijevao dosegnuti najvišu este
 tsku razinu.\n\nBend je surađivao s najvećim glazbenim virtuozima ovog 
 žanra: Stochelom Rosenbergom\, Robinom Nolanom\, Angelom Debarreom\, Raph
 aelom Faysom\, Ludovicom Beierom\, Paulusom Schäferom\, Wawauom Adlerom\,
  Yorguijem Loefflerom\, Joschom Stephanom\, Gismom Grafom\, Sinanom Aliman
 ovićem\, Adrianom Burnsom i mnogim drugima. Upravo su Robin Nolan\, Gismo
  Graf\, Sinan Alimanović te Paulus Schäfer gostovali na njihovom zadnjem
  albumu "Smile" koji je u kolovozu 2021. godine ugledao svjetlo dana.&nbsp
 \;\n\nRanije su je snimili CD "Green Hill Gypsy Swing" s legendarnim Angel
 om Debarrom\, "Manouche" s Ludovicom Beierom\, "My Django Family" s Wawauo
 m Adlerom i Vlatkom Stefanovskim\, a 2019. objavili su CD i vinil sa Zoran
 om Predinom "Zoran pjeva Arsena" u suradnji s neprežaljenim Matijom Dedi
 ćem.&nbsp\;\n\nNjegov sastav nastavlja dalje gostovati diljem Hrvatske i 
 izvan njenih granica pod vodstvom njegovog najdugovječnijeg suradnika\, v
 iolinista Brune Urlića&nbsp\; kao DAMIROV DJANGO GROUP.&nbsp\;\n\nUlaznic
 e dostupne online na ulaznice.hr te na dan koncerta na blagajni Kluba Kaza
 lišta Komedija od 18.30 sati.
ATTACH;FMTTYPE=image/jpeg:https://dev.komedija.hr/www/wp-content/uploads/2
 025/09/Damirov_Django_Group_WEB_feature-post_350x245.jpg
CATEGORIES:KLUB KAZALIŠTA KOMEDIJA (Cesarčeva 2)
END:VEVENT
BEGIN:VTIMEZONE
TZID:Europe/Zagreb
X-LIC-LOCATION:Europe/Zagreb
BEGIN:STANDARD
DTSTART:20251026T020000
TZOFFSETFROM:+0200
TZOFFSETTO:+0100
TZNAME:CET
END:STANDARD
END:VTIMEZONE
END:VCALENDAR