BEGIN:VCALENDAR
VERSION:2.0
PRODID:-//wp-events-plugin.com//7.2.3.1//EN
TZID:Europe/Zagreb
X-WR-TIMEZONE:Europe/Zagreb
BEGIN:VEVENT
UID:2380@dev.komedija.hr
DTSTART;TZID=Europe/Zagreb:20260117T200000
DTEND;TZID=Europe/Zagreb:20260117T220000
DTSTAMP:20251226T052823Z
URL:https://dev.komedija.hr/www/events/dolce-garbo-ensemble-koncert/
SUMMARY:Dolce Garbo Ensemble\, koncert
DESCRIPTION:Dolce Garbo Ensemble okuplja vrhunske glazbenike iz različitih
  sredina koje povezuje predanost umjetničkoj izvrsnosti. Ansambl profinje
 no isprepliće ritmove Mediterana\, Latinske Amerike i Balkana u jedinstve
 nu\, emotivno nabijenu glazbenu priču. Njihov se repertoar vješto kreće
  između klasičnih bolera\, dalmatinskih balada\, vatrenih latino ritmova
  i virtuoznih balkanskih plesnih dionica - među ostalim u izvedbama Besam
 e Mucho\, Dalmatino\, Historia de un Amor\, Il Mondo\, Adio Kerida\, Čama
 c na Tisi i drugih.\n\nAnsambl čine vrhunski umjetnici međunarodnog ugle
 da:\n- glavni vokal Tomislav Čizmić\,\n- dobitnik nagrade Latin Grammy E
 inar Escaf – bubnjevi\,\n- peterostruki nominiran za Grammy Mak Grgić 
 – klasična gitara\,\n- klarinetistički virtuoz Goran Bojčevski\,\n- p
 ijanist Leonardo Donado\,\n- basist Krešimir Tomec\,\n- perkusionist Žig
 a Šercer\n\nZajedno stvaraju glazbenu fuziju koja nadilazi žanrovske i g
 eografske okvire - susret latino strasti\, balkanske duše i mediteranske 
 elegancije\, utkan u suvremen i prepoznatljiv zvuk koji oduševljava publi
 ku u zemlji i diljem svijeta.\n\nPosebna gošća: Milena Vasić\n\nUlaznic
 e možete kupiti online na ulaznice.hr te na blagajni Kluba Kazališta Kom
 edija. Radno vrijeme blagajne je od 18:30 do 21:30\,&nbsp\;isključivo na 
 dane kada se održavaju predstave/programi u Klubu.
ATTACH;FMTTYPE=image/jpeg:https://dev.komedija.hr/www/wp-content/uploads/2
 025/12/DolceGarboEnsemble_350x245.png
CATEGORIES:KLUB KAZALIŠTA KOMEDIJA (Cesarčeva 2)
LOCATION:https://www.ulaznice.hr/web/event-browse/8/20252
END:VEVENT
BEGIN:VTIMEZONE
TZID:Europe/Zagreb
X-LIC-LOCATION:Europe/Zagreb
BEGIN:STANDARD
DTSTART:20251026T020000
TZOFFSETFROM:+0200
TZOFFSETTO:+0100
TZNAME:CET
END:STANDARD
END:VTIMEZONE
END:VCALENDAR