BEGIN:VCALENDAR
VERSION:2.0
PRODID:-//wp-events-plugin.com//7.2.3.1//EN
TZID:Europe/Zagreb
X-WR-TIMEZONE:Europe/Zagreb
BEGIN:VEVENT
UID:2250@dev.komedija.hr
DTSTART;TZID=Europe/Zagreb:20250524T210000
DTEND;TZID=Europe/Zagreb:20250524T230000
DTSTAMP:20250509T122619Z
URL:https://dev.komedija.hr/www/events/drago-jakovcevic-promocija-albuma-s
 axofaction-greatest-love/
SUMMARY:Drago Jakovčević: promocija albuma Saxofaction - GREATEST LOVE
DESCRIPTION:Proslavljeni saksofonist Drago Jakovčević promovira svoj čet
 vrti album Saxofaction pod nazivom&nbsp\;Greatest love.&nbsp\;Tu će biti 
 15 skladbi ljubavne tematike u vrhu svjetskih pop hitova čiji su izvođa
 či Withney Houston\, Tina Turner\, Rod Stewart\, Lady Gaga\, Celin Dion\,
  Miley Cyrus\, Stevie Wonder...\n\nDođite i uzivajte zajedno s nama!\nVid
 imo se u Klubu Kazališta Komedija (Cesarčeva 2) u subotu\, 24. svibnja u
  21 sat!\n\nUlaznice dostupne na blagajnama Oktogon i Kaptol te online na 
 ulaznice.hr!\n\n&nbsp\;\n\n&nbsp\;\n\n&nbsp\;
ATTACH;FMTTYPE=image/jpeg:https://dev.komedija.hr/www/wp-content/uploads/2
 025/04/saxofaction_WEB_feature-post_350x245.png
CATEGORIES:KLUB KAZALIŠTA KOMEDIJA (Cesarčeva 2)
LOCATION:https://www.ulaznice.hr/web/event-browse/8/19330
END:VEVENT
BEGIN:VTIMEZONE
TZID:Europe/Zagreb
X-LIC-LOCATION:Europe/Zagreb
BEGIN:DAYLIGHT
DTSTART:20250330T030000
TZOFFSETFROM:+0100
TZOFFSETTO:+0200
TZNAME:CEST
END:DAYLIGHT
END:VTIMEZONE
END:VCALENDAR