BEGIN:VCALENDAR
VERSION:2.0
PRODID:-//wp-events-plugin.com//7.2.3.1//EN
TZID:Europe/Zagreb
X-WR-TIMEZONE:Europe/Zagreb
BEGIN:VEVENT
UID:2264@dev.komedija.hr
DTSTART;TZID=Europe/Zagreb:20250522T210000
DTEND;TZID=Europe/Zagreb:20250522T230000
DTSTAMP:20250521T110026Z
URL:https://dev.komedija.hr/www/events/elvis-stanic-aires-collective/
SUMMARY:Elvis Stanić AIRes Collective\, guitar & accordion project
DESCRIPTION:„Elvis Stanić AIRes Collective“ novi je projekt najnagrađ
 ivanijeg hrvatskog jazz skladatelja i multiinstrumentalista - Elvisa Stani
 ća. Dobitnik 33 Porina i najviših hrvatskih i međunarodnih jazz priznan
 ja ovaj put ponovo spaja ono naizgled nespojivo – autorsku glazbu iz op
 ćepoznatog jazz opusa u prepoznatljivom zvuku gitare i novi zvuk francusk
 e harmonike\, argentinskog tanga\, sambe i bossa nove.\n\nNa sceni ga prat
 e vrhunski jazz glazbenici\, dugogodišnji suradnici istaknutih glazbenih 
 osobnosti. Ova skupina iskusnih i vatrenih glazbenika energičnu\, očarav
 ajuću i nadahnutu glazbu kombinira u jedinstven doživljaj zvuka gitare i
  harmonike.\n\nU svojim novim kompozicijama AIRes Collective publiku odvod
 i na šetnju pariškim ulicama\, poziva na tango u Buenos Airesu i propitk
 uje južnoameričku senzualnost i neobuzdanu radost francuskog ´joie de v
 ivre´.\n\nNjihova glazba pokazuje raznolikost\, ali i vrhunsko umijeće u
 motano u elegantnu fuziju jazza\,&nbsp\; tanga\, sambe i valcera.\n\nIzvo
 đači: Elvis Stanić\, gitara i harmonika / Goran Rukavina\, el.bas i kon
 trabas / Leon Brenko\, klavijature / Žiga Kožar\, bubnjevi
ATTACH;FMTTYPE=image/jpeg:https://dev.komedija.hr/www/wp-content/uploads/2
 025/04/elvis-stanic_WEB_feature-post_350x245.png
CATEGORIES:KLUB KAZALIŠTA KOMEDIJA (Cesarčeva 2)
END:VEVENT
BEGIN:VTIMEZONE
TZID:Europe/Zagreb
X-LIC-LOCATION:Europe/Zagreb
BEGIN:DAYLIGHT
DTSTART:20250330T030000
TZOFFSETFROM:+0100
TZOFFSETTO:+0200
TZNAME:CEST
END:DAYLIGHT
END:VTIMEZONE
END:VCALENDAR