BEGIN:VCALENDAR
VERSION:2.0
PRODID:-//wp-events-plugin.com//7.2.3.1//EN
TZID:Europe/Zagreb
X-WR-TIMEZONE:Europe/Zagreb
BEGIN:VEVENT
UID:2414@dev.komedija.hr
DTSTART;TZID=Europe/Zagreb:20260306T200000
DTEND;TZID=Europe/Zagreb:20260306T220000
DTSTAMP:20260206T123526Z
URL:https://dev.komedija.hr/www/events/filmmusicorkestar-10-godina-s-vama/
SUMMARY:Filmmusicorkestar: 10 godina s vama...
DESCRIPTION:Filmmusicorkestar ove godine slavi 10 godina rada i to na najbo
 lji način\, svojim koncertnim nastupima. Uvijek drugačiji\, uvijek vesel
 i i razigrani s repertoarom koji rekreira poznate filmske teme uz preciznu
 \, majstorsku art-etno svirku Filmmusicorkestar kombinira različite glazb
 ene žanrove na opće zadovoljstvo publike. Dobra vibra od prvog do zadnje
 g takta njihovog koncertnog programa podatna je i zavodljiva i nikog ne os
 tavlja ravnodušnim. Njihov koncertni nastup oduvijek je koketirao s dobro
  uštimanim stand upom\, netko bi rekao i s diskretnim šmekom cabaretskog
  začina uz uvijek aktivno sudjelovanje publike.\n\nOvoga puta\, u predve
 čerje Dana žena\, Filmmusicorkestar u Kontesi izvodi program posvećen u
 pravo ženama\, onima koje su svojim glasom ostavile neizbrisiv trag na do
 maćoj i svjetskoj glazbenoj pozornici. Gabi Novak\, Olivera Marković\, E
 lla Fitzgerald i brojne druge domaće i inozemne glazbene dive pjesmama u 
 izvedbi Filmmusicorkestra još jednom će vam natjerati suzu na oko i smij
 ešak na lice. Odličnu zabavu i sjajnu atmosferu garantiraju vam fenomena
 lna pjevačica i glumica Jassna Luna Jozić\, briljantni Josip Mimica na k
 larinetu i klaviru i gitarom i riječju Admir Ćulumarević.\n\nUlaznice d
 ostupne online na ulaznice.hr te na blagajni Kluba Kazališta Komedija. Ra
 dno vrijeme blagajne je od 18:30 do 21:30\,&nbsp\;isključivo na dane kada
  se održavaju predstave/programi u Klubu.
ATTACH;FMTTYPE=image/jpeg:https://dev.komedija.hr/www/wp-content/uploads/2
 026/02/Filmmusicorkestar_WEB_feature-post_350x245.jpg
CATEGORIES:KLUB KAZALIŠTA KOMEDIJA (Cesarčeva 2)
LOCATION:https://www.ulaznice.hr/web/event-browse/8/20567
END:VEVENT
BEGIN:VTIMEZONE
TZID:Europe/Zagreb
X-LIC-LOCATION:Europe/Zagreb
BEGIN:STANDARD
DTSTART:20251026T020000
TZOFFSETFROM:+0200
TZOFFSETTO:+0100
TZNAME:CET
END:STANDARD
END:VTIMEZONE
END:VCALENDAR