BEGIN:VCALENDAR
VERSION:2.0
PRODID:-//wp-events-plugin.com//7.2.3.1//EN
TZID:Europe/Zagreb
X-WR-TIMEZONE:Europe/Zagreb
BEGIN:VEVENT
UID:2263@dev.komedija.hr
DTSTART;TZID=Europe/Zagreb:20250612T210000
DTEND;TZID=Europe/Zagreb:20250612T230000
DTSTAMP:20250529T102532Z
URL:https://dev.komedija.hr/www/events/filmmusicorkestar-trio-nekako-s-pro
 ljeca-gabi-arsen-kemo-3/
SUMMARY:Filmmusicorkestar trio: Nekako s proljeća - Gabi\, Arsen Kemo
DESCRIPTION:Nakon prva dva rasprodana koncerta Filmmusicorkestar se vraća 
 u Klub Kazališta Komedija i treći put s programom Nekako s proljeća izv
 odeći djela Gabi Novak\, Arsena Dedića i Kemala Montena. Elma Oria Burni
 ć vokal\, Josip Mimica klarinet i klavir i Admir Ćulumarević gitara i k
 lavir svojom raskošnom interpretacijom osvježili su sjećanja na nezabor
 avne uspješnice ovih glazbenih velikana.\n\nVidimo se u Cesarčevoj 2 u 
 četvrtak\, 12. lipnja od 21 sat!
ATTACH;FMTTYPE=image/jpeg:https://dev.komedija.hr/www/wp-content/uploads/2
 025/04/3.-KONCERT-GAK-INSTA.png
CATEGORIES:KLUB KAZALIŠTA KOMEDIJA (Cesarčeva 2)
END:VEVENT
BEGIN:VTIMEZONE
TZID:Europe/Zagreb
X-LIC-LOCATION:Europe/Zagreb
BEGIN:DAYLIGHT
DTSTART:20250330T030000
TZOFFSETFROM:+0100
TZOFFSETTO:+0200
TZNAME:CEST
END:DAYLIGHT
END:VTIMEZONE
END:VCALENDAR