BEGIN:VCALENDAR
VERSION:2.0
PRODID:-//wp-events-plugin.com//7.2.3.1//EN
TZID:Europe/Zagreb
X-WR-TIMEZONE:Europe/Zagreb
BEGIN:VEVENT
UID:1931@dev.komedija.hr
DTSTART;TZID=Europe/Zagreb:20240528T200000
DTEND;TZID=Europe/Zagreb:20240528T220000
DTSTAMP:20240419T140159Z
URL:https://dev.komedija.hr/www/events/flamenco-en-vivo-feat-camino-de-ruz
 afa/
SUMMARY:Flamenco en vivo feat. Camino de Ruzafa
DESCRIPTION:Flamenco en vivo feat. Camino de Ruzafa\n\nMirza Redžepagić &
 amp\;&nbsp\;friends from Berklee College of Music \n\nU sklopu svoje konce
 rtne turneje u Zagreb stiže naš najbolji regionalni flamenko gitarist Mi
 rza Redžepagić u pratnji glazbenika s Berklee College of Music (Valencia
 ).\n\nMirza Redžepagić je gitarist\, skladatelj i producent čiji izvođ
 ački stil proizlazi iz izražajne tradicije flamenko gitare\, World Music
  i jazza. Nakon završenog studija klasične gitare počinje istraživati 
 flamenko te odlazi u Granadu i Madrid na daljnje usavršavanje. Nastupa di
 ljem Europe\, a njegova posvećenost glazbi proširuje se na podučavanje 
 i produciranje. Djeluje kao glazbeni direktor World Music Fest Zeman u Srb
 iji. Zajedno s Damirom Imamovićem suosnivač je World Music Jam Sessions 
 (2020) u Sarajevu.\n\n2022. objavljuje album ‘’Mirza Redzepagic Plays 
 Leo Brouwer’’\, godinu poslije „Flamenco Clásicos“ posvećenu prv
 im majstorima flamenko gitare.\n\n2024. objavljuje autorski album nastao z
 a vrijeme boravka u Valenciji kao rezultat završenih Master studija na Be
 rklee College of Music\, gdje je kao njihov stipendist uspostavio snažne 
 veze s umjetnicima iz preko 60 zemalja svijeta. Na pozornici će mu se pri
 družiti Eva Català Sánchez (Španjolska)\, Maite Arregi (Španjolska) i
   Imam Hamdani (SAD). \n\nKoncertni ciklus „Flamenco en vivo“ nastao j
 e iz potrebe da flamenko postane redoviti dio kulturne i turističke ponud
 e Grada Zagreba te mjesto gdje domaći i regionalni flamenko umjetnici ost
 varuju suradnju sa španjolskim umjetnicima. Organizator je Udruga za prom
 oviranje španjolske umjetnosti i kulture 'Alma'\, a pokrovitelji Grad Zag
 reb i Veleposlanstvo Kraljevine Španjolske u Hrvatskoj.\n\n&nbsp\;
ATTACH;FMTTYPE=image/jpeg:https://dev.komedija.hr/www/wp-content/uploads/2
 024/04/flamenco-en-vivo_1200x1200.png
CATEGORIES:KLUB KAZALIŠTA KOMEDIJA (Cesarčeva 2)
END:VEVENT
BEGIN:VTIMEZONE
TZID:Europe/Zagreb
X-LIC-LOCATION:Europe/Zagreb
BEGIN:DAYLIGHT
DTSTART:20240331T030000
TZOFFSETFROM:+0100
TZOFFSETTO:+0200
TZNAME:CEST
END:DAYLIGHT
END:VTIMEZONE
END:VCALENDAR