BEGIN:VCALENDAR
VERSION:2.0
PRODID:-//wp-events-plugin.com//7.2.3.1//EN
TZID:Europe/Zagreb
X-WR-TIMEZONE:Europe/Zagreb
BEGIN:VEVENT
UID:2234@dev.komedija.hr
DTSTART;TZID=Europe/Zagreb:20250504T200000
DTEND;TZID=Europe/Zagreb:20250504T220000
DTSTAMP:20250401T121928Z
URL:https://dev.komedija.hr/www/events/flamenco-en-vivo-feat-flam-a-duo/
SUMMARY:Flamenco en vivo! feat. Flam-a Duo
DESCRIPTION:“Flamenco en vivo!” donosi flamenko u neobičnim aranžmani
 ma udaraljki. Koristeći široku paletu od marimbe i vibrafona do cajona i
  staklenih boca Flam-a Duo će proputovati kroz odabrana djela puna strast
 i i dinamičnosti. Flam-a Duo čine Luis Camacho Montealegre (Španjolska)
  i Francesco Mazzoleni (Italija)\, a kao gosti će nastupiti Ansambl Čipk
 ice\, pjevačica Nina Ćorić\, plesačice flamenka Flor Zelko i Sofita Ba
 rro Fosin te Mario Rašić (bas)\, Marko First (violina) i Mladen Kosovec 
 (harmonika).\n\nYoutube promo link: https://www.youtube.com/watch?v=rHeLya
 5AOww\n\nFlam-a Duo osnovali su Francesco Mazzoleni (Treviso\, Italija) i 
 Luis Camacho Montealegre (Alcázar de San Juan\, Španjolska)\, koji su se
  upoznali 2016. godine za vrijeme studija na Muzičkoj akademiji u Zagrebu
  pod mentorstvom profesora Ivane Kuljerić Bilić i Igora Lešnika. Od sam
 og osnivanja dua\, velik naglasak stavljen je na komunikaciju\, kako među
 sobnu\, tako i s publikom. Koristeći glazbeni nastup kao sredstvo pripovi
 jedanja priča\, Flam-a Duo se u svojem radu oslanja na intuiciju koja se 
 temelji na snažnoj emocionalnoj povezanosti s odabranim repertoarom. Za o
 vaj duo\, suština komorne glazbe je postizanje maksimalne moguće sinergi
 je između izvođača te zajedničko istraživnje svih elemenata koji obli
 kuju glazbu: od organiziranja i proširivanja repertoara udaraljkaškog du
 eta do raščlanjivanja i analiziranja glazbe\, zvuka i pokreta do realiza
 cije i prenošenja ideja i emocija tijekom izvedbe. Već u prvim godinama 
 djelovanja\, duo je nastupio na brojnim festivalima kao što su Ivana Bili
 ć Marimba Week (Samobor\, Hrvatska)\, Salotto Musicale (Treviso/Belluno\,
  Italija)\, International Percussion Ensemble Week (Bjelovar\, Hrvatska)\,
  Percussion Camp (Tenerife\, Španjolska)\, Večeri udaraljkaša u Križev
 cima (Križevci\, Hrvatska)\, Ivana Summer Percussion Festival (Samobor\, 
 Hrvatska) i Arte Entre Gigantes (Campo de Criptana\, Španjolska). Nastupi
 li su u okviru europskog projekta Hrvatskoga radija Rođendan umjetnosti 2
 018. godine. Snimka nastupa direktno je emitirana u mreži Europske radijs
 ke unije. Iako su u početku uglavnom bili usredotočeni na repertoar za m
 arimbe i osvojili druge nagrade na natjecanjima IV Percute natjecanje komo
 rne glazbe 2016 u Valenciji. i Universal Marimba Competition u Belgiji 201
 7. godine\, danas je njihov interes širok i proteže se na sve vrste udar
 aljki. Praizveli su djela hrvatskih autora skladana posebno za njihov duo 
 te bili nositelji promotivnog projekta novih studija MA s nekoliko origina
 lnih video klipova. 2020. godine su na svojem YouTube kanalu objavili seri
 ju videa „Sunday at Soundbrick Studio“ u kojoj su prikazali neke od sv
 ojih najnovijih aranžmana za marimbu i vibrafon te klasične skladbe za i
 ste instrumente. U proljeće 2022. godine u izdanju renomirane diskografsk
 e kuće Croatia Records izašao je debitanski album dvojca pod nazivom „
 Preludije i fuge“\, te u 2023. prezentiraju svoj projekt španjolske i t
 alijanske glazbe pod nazivom „Mediterraneo“ u suradnji s Veleposlanstv
 om Kraljevine Španjolske u Hrvatskoj te Talijanskim institutom u Zagrebu.
  2024. predstavljaju program Una noche flamenca\, flamenko u neobičnom ar
 anžmanu udaraljki.&nbsp\; Koristeći široku paletu raznoraznih udaraljki
  poput marimbe\, vibrafona\, cajona\, staklenih boca\, Flam-a Duo putuje k
 roz odabrane uspješne i poznate pjesme u flamenko stilu koji je pun stras
 ti i dinamičnosti.\n\n&nbsp\;Organizator je Udruga za promoviranje španj
 olske umjetnosti I kulture Alma\, a pokrovitelji Grad Zagreb i Veleposlans
 tvo Kraljevine Španjolske u Hrvatskoj.
ATTACH;FMTTYPE=image/jpeg:https://dev.komedija.hr/www/wp-content/uploads/2
 025/04/Flamenco-en-vivo-ft.-Flam-a-Duo.png
CATEGORIES:KLUB KAZALIŠTA KOMEDIJA (Cesarčeva 2)
END:VEVENT
BEGIN:VTIMEZONE
TZID:Europe/Zagreb
X-LIC-LOCATION:Europe/Zagreb
BEGIN:DAYLIGHT
DTSTART:20250330T030000
TZOFFSETFROM:+0100
TZOFFSETTO:+0200
TZNAME:CEST
END:DAYLIGHT
END:VTIMEZONE
END:VCALENDAR