BEGIN:VCALENDAR
VERSION:2.0
PRODID:-//wp-events-plugin.com//7.2.3.1//EN
TZID:Europe/Zagreb
X-WR-TIMEZONE:Europe/Zagreb
BEGIN:VEVENT
UID:1893@dev.komedija.hr
DTSTART;TZID=Europe/Zagreb:20240407T200000
DTEND;TZID=Europe/Zagreb:20240407T220000
DTSTAMP:20240311T143738Z
URL:https://dev.komedija.hr/www/events/gala-comedy-night-international-sta
 ndup-in-english/
SUMMARY:GALA COMEDY NIGHT - INTERNATIONAL STANDUP IN ENGLISH
DESCRIPTION:Zagreb English Comedy proudly presents: a Gala Comedy Night!\n\
 nCome and join us at the wonderful Klub Komedija in the very center of Zag
 reb - right under the main square\, for a night of exquisite comedy in Eng
 lish!\n\nExperienced international comedians will take the stage to make y
 ou laugh\, sharing their stories and unique observations with a funny twis
 t.\n\nPerforming are:\n\nDee Hakami (USA) - A real life American cowboy\, 
 hailing from Wyoming of all places\, who has lived all over the US\, from 
 New York to San Francisco\, and even the Deep South. Currently residing in
  Croatia\, Dee has taken part in stand-up shows all over the US and the UK
 \, finally making his way to Zagreb comedy stages.\n\nMiranda Lončar (Bos
 nia and Herzegovina) - Born in Mostar\, Miranda was a refugee in the ninet
 ies\, long before it became so popular. She has been doing stand-up comedy
  since 2008\; performing regularly across the region. A woman can do anyth
 ing\, they said. So in fact\, she works and cleans and cooks…All in all\
 , she is massively joyous to be alive and laugh about the pain and the goo
 d life brings.\n\nCody McClain Brown (USA) - THE expat in Croatia\, born a
 nd raised in Oklahoma\, USA\, moved to Croatia ages ago\, he is still lear
 ning to adjust and integrate into the local lifestyle. Cody is the author 
 of two bestselling books: Chasing a Croatian Girl (Propuh\, Papuče\, i Pu
 nica) and Croatia Strikes Back (Hrvatska vraća udarac)\, frequent guest o
 f Croatian TV channels\, and uses stand-up to share his culture shocks and
  insights into Croatian customs and traditions.\n\nIgor Mondae (Croatia) -
  Croatia's most internationally experienced comedian\; with 9 year experie
 nce of performing abroad\, 4 sold-out European tours\, two Melbourne Inter
 national Comedy Festival and Edinburgh Fringe festival runs\, and performa
 nces in over 20 countries under his belt! In 2023\, Igor launched Zagreb E
 nglish Comedy as the first and only regular English comedy production in C
 roatia.\n\nSee you on April 7th in Klub Komedija! Tickets available online
  at ulaznice.hr and at Oktagon ticket office.
ATTACH;FMTTYPE=image/jpeg:https://dev.komedija.hr/www/wp-content/uploads/2
 024/03/Gala-Comedy-Night-square.png
CATEGORIES:KLUB KAZALIŠTA KOMEDIJA (Cesarčeva 2)
END:VEVENT
BEGIN:VTIMEZONE
TZID:Europe/Zagreb
X-LIC-LOCATION:Europe/Zagreb
BEGIN:DAYLIGHT
DTSTART:20240331T030000
TZOFFSETFROM:+0100
TZOFFSETTO:+0200
TZNAME:CEST
END:DAYLIGHT
END:VTIMEZONE
END:VCALENDAR