BEGIN:VCALENDAR
VERSION:2.0
PRODID:-//wp-events-plugin.com//7.2.3.1//EN
TZID:Europe/Zagreb
X-WR-TIMEZONE:Europe/Zagreb
BEGIN:VEVENT
UID:2283@dev.komedija.hr
DTSTART;TZID=Europe/Zagreb:20250613T203000
DTEND;TZID=Europe/Zagreb:20250613T220000
DTSTAMP:20250611T115851Z
URL:https://dev.komedija.hr/www/events/imitatorski-stand-up-show-by-danko-
 azic/
SUMMARY:IMITATORSKI STAND UP SHOW BY DANKO AŽIĆ
DESCRIPTION:Jedinstven stand up show u kojem se satiričar i imitator Danko
  Ažić iz perspektiva 40 poznatih osoba na urnebesan način osvrće na ra
 zne teme iz HR\, ali i iz svijeta i poznate osobe dovodi u nikad viđene s
 ituacije.&nbsp\;\n\nRazne teme obrađene kroz parodiju\, imitacije\, satir
 u i improvizaciju imat ćete priliku čuti i vidjeti u petak 13.6. u Klubu
  Kazališta Komedija s početkom u 20:30h.\n\nUlaznice možete kupiti na u
 laznice.hr po cijeni od 10e\, a na dan nastupa cijena je 12e.\n\nTrajanje 
 nastupa: 1h i 20min\n\nOstanite i nakon nastupa na after partyu...\n\nVidi
 mo se!
ATTACH;FMTTYPE=image/jpeg:https://dev.komedija.hr/www/wp-content/uploads/2
 025/05/danko.png
CATEGORIES:KLUB KAZALIŠTA KOMEDIJA (Cesarčeva 2)
END:VEVENT
BEGIN:VTIMEZONE
TZID:Europe/Zagreb
X-LIC-LOCATION:Europe/Zagreb
BEGIN:DAYLIGHT
DTSTART:20250330T030000
TZOFFSETFROM:+0100
TZOFFSETTO:+0200
TZNAME:CEST
END:DAYLIGHT
END:VTIMEZONE
END:VCALENDAR