BEGIN:VCALENDAR
VERSION:2.0
PRODID:-//wp-events-plugin.com//7.2.3.1//EN
TZID:Europe/Zagreb
X-WR-TIMEZONE:Europe/Zagreb
BEGIN:VEVENT
UID:2207@dev.komedija.hr
DTSTART;TZID=Europe/Zagreb:20250415T200000
DTEND;TZID=Europe/Zagreb:20250415T220000
DTSTAMP:20250305T112019Z
URL:https://dev.komedija.hr/www/events/irma-the-band-enigma/
SUMMARY:IRMA & THE BAND - Enigma
DESCRIPTION:S pozornice Dore u Klub Kazališta Komedija: pred nama je cross
 over spektakl Irme Dragičević za ljubitelje svevremenskih hitova!\n\nNak
 on dva rasprodana samostalna koncerta u 2024. u jedinstvenom cabaret prost
 oru zagrebačkog Kluba Kazališta Komedija\, crossover pjevačica&nbsp\;Ir
 ma Dragičević&nbsp\;najavljuje i treći\, ujedno i svoj dosad najraskoš
 niji glazbeni spektakl! Koncert će se održati&nbsp\;15. travnja 2025.&nb
 sp\;s početkom u&nbsp\;20 sati\, a publika će imati jedinstvenu priliku 
 uživo čuti&nbsp\;"Enigmu"\, pjesmu s kojom ove godine nastupa na Dori u 
 Opatiji. Ova moćna balada već je osvojila srca mnogih i lansirala Irmu m
 eđu najprepoznatljivija nova imena hrvatske glazbene scene.\n\nNa reperto
 aru će se naći&nbsp\;sve ono po čemu je Irma prepoznatljiva&nbsp\;– j
 edinstveni crossover spoj njenih omiljenih glazbenih žanrova. Od&nbsp\;po
 pa\, preko&nbsp\;cabareta&nbsp\;i&nbsp\;mjuzikla\, pa sve do&nbsp\;sevdaha
 &nbsp\;i&nbsp\;evergreena&nbsp\;zlatnog doba. Uz&nbsp\;"Enigmu"\, Irma će
  izvesti i prošlogodišnji ljetni hit&nbsp\;"Bivši Budući"\, koji je po
 stao nezaobilazan dio njenih nastupa uživo.\n\n“Pjevati uglas sa svojom
  publikom\, doživjeti izbliza njihovu emociju i podršku – to je ono š
 to me pokreće kao umjetnicu. Klub Kazališta Komedija za mene nije samo k
 oncertni prostor\, to je mjesto gdje sam doživjela neke od svojih najpose
 bnijih trenutaka na sceni. Ovaj koncert nastavak je tog putovanja – ostv
 arenje snova male Irme koja je sanjala o velikoj glazbenoj karijeri. Dora 
 je bila samo početak\, a moj novi samostalni koncert prilika da uživo is
 pričam svoju glazbenu priču\, da istaknem ono najbolje od sebe i svojeg 
 talenta\, za zabavim svoju publiku\, rasplešem je\, probudim emociju i od
 vedem u neko drugo vrijeme\, u vrijeme bezvremenskih hitova"&nbsp\;ističe
  Irma\, najavljujući večer ispunjenu&nbsp\;vrhunskom glazbom\, emocijama
  i scenskim iznenađenjima.\n\nUlaznice za koncert dostupne su putem susta
 va ulaznice.hr te na svim prodajnim mjestima Tisak media i blagajni Kazali
 šta Komedija.\n\n&nbsp\;\n\n&nbsp\;
ATTACH;FMTTYPE=image/jpeg:https://dev.komedija.hr/www/wp-content/uploads/2
 025/03/Irma-the-band_WEB_feature-post_350x245.png
CATEGORIES:KLUB KAZALIŠTA KOMEDIJA (Cesarčeva 2)
END:VEVENT
BEGIN:VTIMEZONE
TZID:Europe/Zagreb
X-LIC-LOCATION:Europe/Zagreb
BEGIN:DAYLIGHT
DTSTART:20250330T030000
TZOFFSETFROM:+0100
TZOFFSETTO:+0200
TZNAME:CEST
END:DAYLIGHT
END:VTIMEZONE
END:VCALENDAR