BEGIN:VCALENDAR
VERSION:2.0
PRODID:-//wp-events-plugin.com//7.2.3.1//EN
TZID:Europe/Zagreb
X-WR-TIMEZONE:Europe/Zagreb
BEGIN:VEVENT
UID:1927@dev.komedija.hr
DTSTART;TZID=Europe/Zagreb:20240430T210000
DTEND;TZID=Europe/Zagreb:20240430T223000
DTSTAMP:20240412T142838Z
URL:https://dev.komedija.hr/www/events/ivan-colaric-ante-reljic-trio/
SUMMARY:IVAN COLARIĆ & Ante Reljić trio
DESCRIPTION:Ivan Colarić i Ante Reljić trio glazbeno djeluju i nastupaju 
 od 2022.godine i bilježe sve brojnije nastupe po Zagrebu i Hrvatskoj. Gen
 eracijskom jazu \, glazbenim trendovima i vremenu usprkos oni spajaju repe
 rtoar američkog jazza\, šlagera i šansone (Sinatra\, Nat King Cole\, T.
  Bennet\, P. Gagliardi) sa domaćim skladateljima i autorima (D. Diklić\,
  S. Kalogjera\, A. Dedić\, Z. Špišić)\, kao glazbenicima posve ravnopr
 avnim stranim\, svjetski poznatim autorima. Tako će biti i u Klubu Komedi
 ja 30. 4. s početkom u 21 sat. U jedinstvenoj atmosferi koju sastav stvar
 a\, s publikom će se prošetati vremenom i ukusom koji pomalo odlazi u za
 borav. Veselimo se vašem dolasku!\n\n&nbsp\;\n\nIvan Colarić - vokal\, g
 itara\n\nAnte Reljić - klavir&nbsp\;\n\nJura Vrandečić - kontrabas\n\nB
 oris Beštak - bubnjevi
ATTACH;FMTTYPE=image/jpeg:https://dev.komedija.hr/www/wp-content/uploads/2
 024/04/colaric-reljic-trio_1200x1200.png
CATEGORIES:KLUB KAZALIŠTA KOMEDIJA (Cesarčeva 2)
END:VEVENT
BEGIN:VTIMEZONE
TZID:Europe/Zagreb
X-LIC-LOCATION:Europe/Zagreb
BEGIN:DAYLIGHT
DTSTART:20240331T030000
TZOFFSETFROM:+0100
TZOFFSETTO:+0200
TZNAME:CEST
END:DAYLIGHT
END:VTIMEZONE
END:VCALENDAR