BEGIN:VCALENDAR
VERSION:2.0
PRODID:-//wp-events-plugin.com//7.2.3.1//EN
TZID:Europe/Zagreb
X-WR-TIMEZONE:Europe/Zagreb
BEGIN:VEVENT
UID:1971@dev.komedija.hr
DTSTART;TZID=Europe/Zagreb:20241005T193000
DTEND;TZID=Europe/Zagreb:20241005T214500
DTSTAMP:20240911T140353Z
URL:https://dev.komedija.hr/www/events/ivan-kusan-caruga/
SUMMARY:Ivan Kušan: ČARUGA
DESCRIPTION:Ivan Kušan\nRedatelj: Ivica Buljan\n\nANSAMBL PREDSTAVE\nJovo 
 Stanisavljević Čaruga – Bojan Navojec\nJuraj Ardonjak – Sreten Mokro
 vić\nAnkica Ardonjak – Nina Violić\nJosip Zeljić – Frano Mašković
 \nBoris Možbolt – Pavle Vrkljan\nTonka Možbolt – Ružica Maurus\nMir
 oslav Frankić – Ivan Čuić\nAdam Žažić – Pavle Matuško\nNikola G
 iljetić Gile – Vedran Živolić\n\nAUTORSKI TIM\nOblikovanje prostora 
 – sonda24 + Toni Soprano Meneglejte\nKostimografkinja – Ana Savić Gec
 an\nGlazba i oblikovanje zvuka – Drago Mlinarec\nOblikovanje svjetla –
  sonda24\nOblikovanje videa – Toni Soprano Meneglejte\nAsistentica drama
 turgije – Ana Perković\nAsistent scenografije i rekviziter – Edo Hrž
 enjak\nAsistentica kostimografije – Laura Špoljar\nKreativni producent 
 ­– Dubravka Vrgoč\nIzvršni producent ­– Igor Pečenjev\nTehničari
  – Ivan Kutleša\, Željko Futač\nMajstorica maske (šminka) – Iva Š
 imunović Lisak\nGarderobijerka – Ksenija Barić\nFotografije - Delimir 
 Hrestak\nProdukcija – KMC Bjelovar / Gradska kazališna kuća Bjelovar 2
 024.\n\nDramski tekst „Čaruga“ Ivan Kušan napisao je godine 1976. na
  poziv „Teatra u gostima“ koji ga je s iznimnim uspjehom izveo više o
 d 250 puta. &nbsp\;Sam dramski pisac &nbsp\;„Čarugu“ je opisao kao 
 „tešku\, ali vjerodostojnu tragediju gospodina Jurja Ardonjaka iz Feri
 čanaca u Slavoniji koji je umoren u najneobičnijim okolnostima poradi lj
 ubavi nevjerne mu i bludne supruge što ju je osjećala prema mjerniku Bor
 isu Možboltu te posredno unajmila lupeškoga harambašu Jovu Stanisavljev
 ića zvanoga Čaruga da ga ukine sa života i u kojoj se vidi neizmjerna z
 loća dotične i mnogih drugih sljepilo pohlepe\, pohote i ostalih poroka 
 kao i sramotan kraj gotovo svih zlikovaca“. Redatelj Ivica Buljan i glum
 ci Bojan Navojec\, Nina Violić\, Sreten Mokrović\, Frano Mašković\, Ve
 dran Živolić\, Ružica Maurus\, Pavle Vrkljan\, Ivan Čuić i Pavle Matu
 ško ispričat će na pozornici Gradske kazališne kuće Bjelovar priču o
  komičnom junaku koji se ne snalazi u svijetu puno većih varalica od nje
 ga samoga. &nbsp\;Prva je to &nbsp\;profesionalna predstava u produkciji K
 MC-a\, a želja joj je nasmijati gledatelje i suočiti ih s izokrenutom\, 
 ali još uvijek prepoznatljivom slikom naše stvarnosti.&nbsp\;\n\nVIDEO N
 AJAVA
ATTACH;FMTTYPE=image/jpeg:https://dev.komedija.hr/www/wp-content/uploads/2
 024/09/DRUSTVENE-MREZE.png
CATEGORIES:gostovanje: KMC Bjelovar / Gradska kazališna kuća Bjelovar,[
 KAZALIŠTE KOMEDIJA ]
END:VEVENT
BEGIN:VTIMEZONE
TZID:Europe/Zagreb
X-LIC-LOCATION:Europe/Zagreb
BEGIN:DAYLIGHT
DTSTART:20240331T030000
TZOFFSETFROM:+0100
TZOFFSETTO:+0200
TZNAME:CEST
END:DAYLIGHT
END:VTIMEZONE
END:VCALENDAR