BEGIN:VCALENDAR
VERSION:2.0
PRODID:-//wp-events-plugin.com//7.2.3.1//EN
TZID:Europe/Zagreb
X-WR-TIMEZONE:Europe/Zagreb
BEGIN:VEVENT
UID:2324@dev.komedija.hr
DTSTART;TZID=Europe/Zagreb:20251026T200000
DTEND;TZID=Europe/Zagreb:20251026T210000
DTSTAMP:20251003T124715Z
URL:https://dev.komedija.hr/www/events/ivan-viripajev-iluzije-2/
SUMMARY:Ivan Viripajev: Iluzije
DESCRIPTION:Ivan Viripajev: Iluzije\nizvode: Ana Pogorelić\, Andrej Jemcov
  i Katarina Ranković\nrežija\, adaptacija i scenografija: izvođački ti
 m predstave\n\nprijevod: Novica Antić\nmuzika: Katarina Ranković\npokret
 : Ana Pogorelić\nsvjetlo i zvuk: Miroslav Marčetić\nšminka: Dino Baksa
 \nkostimografija i vizual: Nina i Ana Pogorelić\nproducent: ŽabaTeatar\n
 \nIvan Viripajev\, “Čehov 21.stoljeća”\, smješta dinamičan zaplet 
 ljubavnog kvarteta u bezvremensku kapsulu.&nbsp\;U osnovi drame “Iluzije
 ” leži problem komunikacije između likova. Isprva se dramski tekst uvo
 di kroz kabaretsku prizmu naracije i zvuka\, a kako priča odmiče\, grani
 ce između naracije i muzičke podloge nestaju te tekst i muzika &nbsp\;po
 staju ravnopravni izvođači.&nbsp\;Viripajev stilizira igru karaktera i t
 ransformaciju likova na poetičan način kroz istančanu razmjenu muško-
 ženske energije\, imajući u vidu postojanje obje u svakome od nas.&nbsp\
 ;Svaki odnos je neprestana igra iluzija i realnosti i kroz dramu Viripajev
 a publika dobiva slobodu kreiranja vlastite istine.\n\n“Iluzije” je ko
 mad koji svi mi živimo\, njegova poetika briše granice između mogućeg 
 i nemogućeg i neprestano budi maštu i utopijsku sliku do samog kraja dra
 me.&nbsp\;\nAna Pogorelić i Katarina Ranković\n\nPredstava Iluzije 26. 1
 0. u 20h održat će se u okviru Malog gornjogradskog festivala\, projekt 
 Kultura i umjetnost u zajednici grada Zagreba.\nUlaz slobodan\, najave na 
 tel: 091 110 1996
ATTACH;FMTTYPE=image/jpeg:https://dev.komedija.hr/www/wp-content/uploads/2
 025/10/Iluzije_WEB_feature-post_350x245.jpg
CATEGORIES:KLUB KAZALIŠTA KOMEDIJA (Cesarčeva 2)
END:VEVENT
BEGIN:VTIMEZONE
TZID:Europe/Zagreb
X-LIC-LOCATION:Europe/Zagreb
BEGIN:STANDARD
DTSTART:20251026T020000
TZOFFSETFROM:+0200
TZOFFSETTO:+0100
TZNAME:CET
END:STANDARD
END:VTIMEZONE
END:VCALENDAR