BEGIN:VCALENDAR
VERSION:2.0
PRODID:-//wp-events-plugin.com//7.2.3.1//EN
TZID:Europe/Zagreb
X-WR-TIMEZONE:Europe/Zagreb
BEGIN:VEVENT
UID:2215@dev.komedija.hr
DTSTART;TZID=Europe/Zagreb:20250509T200000
DTEND;TZID=Europe/Zagreb:20250509T210000
DTSTAMP:20250508T114803Z
URL:https://dev.komedija.hr/www/events/ivan-viripajev-iluzije/
SUMMARY:Ivan Viripajev: Iluzije
DESCRIPTION:Ivan Viripajev: Iluzije\nizvode: Ana Pogorelić\, Andrej Jemcov
  i Katarina Ranković\nrežija\, adaptacija i scenografija: izvođački ti
 m predstave\n\nprijevod: Novica Antić\nmuzika: Katarina Ranković\npokret
 : Ana Pogorelić\nsvjetlo i zvuk: Miroslav Marčetić\nšminka: Dino Baksa
 \nkostimografija i vizual: Nina i Ana Pogorelić\nproducent: ŽabaTeatar\n
 \nIvan Viripajev\, “Čehov 21.stoljeća”\, smješta dinamičan zaplet 
 ljubavnog kvarteta u bezvremensku kapsulu.&nbsp\;U osnovi drame “Iluzije
 ” leži problem komunikacije između likova. Isprva se dramski tekst uvo
 di kroz kabaretsku prizmu naracije i zvuka\, a kako priča odmiče\, grani
 ce između naracije i muzičke podloge nestaju te tekst i muzika &nbsp\;po
 staju ravnopravni izvođači.&nbsp\;Viripajev stilizira igru karaktera i t
 ransformaciju likova na poetičan način kroz istančanu razmjenu muško-
 ženske energije\, imajući u vidu postojanje obje u svakome od nas.&nbsp\
 ;Svaki odnos je neprestana igra iluzija i realnosti i kroz dramu Viripajev
 a publika dobiva slobodu kreiranja vlastite istine.\n\n“Iluzije” je ko
 mad koji svi mi živimo\, njegova poetika briše granice između mogućeg 
 i nemogućeg i neprestano budi maštu i utopijsku sliku do samog kraja dra
 me.&nbsp\;\nAna Pogorelić i Katarina Ranković\n\n&nbsp\;Ulaznice dostupn
 e na blagajnama Oktogon i Kaptol i online na ulaznice.hr!\n\n&nbsp\;
ATTACH;FMTTYPE=image/jpeg:https://dev.komedija.hr/www/wp-content/uploads/2
 025/03/Iluzije_WEB_feature-post_350x245.jpg
CATEGORIES:KLUB KAZALIŠTA KOMEDIJA (Cesarčeva 2)
LOCATION:https://www.ulaznice.hr/web/event-browse/8/19127
END:VEVENT
BEGIN:VTIMEZONE
TZID:Europe/Zagreb
X-LIC-LOCATION:Europe/Zagreb
BEGIN:DAYLIGHT
DTSTART:20250330T030000
TZOFFSETFROM:+0100
TZOFFSETTO:+0200
TZNAME:CEST
END:DAYLIGHT
END:VTIMEZONE
END:VCALENDAR