BEGIN:VCALENDAR
VERSION:2.0
PRODID:-//wp-events-plugin.com//7.2.3.1//EN
TZID:Europe/Zagreb
X-WR-TIMEZONE:Europe/Zagreb
BEGIN:VEVENT
UID:1540@dev.komedija.hr
DTSTART;TZID=Europe/Zagreb:20221221T200000
DTEND;TZID=Europe/Zagreb:20221221T210000
DTSTAMP:20221125T093226Z
URL:https://dev.komedija.hr/www/events/ivana-galic-hommmage-mahalia-jackso
 n-program-bozicni-gospel/
SUMMARY:Ivana Galić: Hommmage Mahalia Jackson / program božićni gospel
DESCRIPTION:Nakon izvrsnog koncerta u Kontesi prije nekoliko godina\, ponov
 no na pozornicu kluba dolazi jedinstvena Ivana Galić uz pratnju svog kvar
 teta. Ova svestrana vokalistica iznimnog vokala jakog potpisa više se put
 a dokazala da je vokal svjetskih pozornica\, a dokazuju to i posljednjih g
 odina priznanja International Gospel Artist Award - Women of Excellence At
 lanta 2018\, najbolja "traditional vocal" izvedba - nastup u Sternu Carneg
 ie Halla u New Yorku 2019.\, a njezina izvedba afričke pjesme Ukuthula od
 abrana je za A Voice 4 Piece.&nbsp\;\n\nČembalistica svjetskog glasa Viš
 nja Mažuran za nju kaže da je "više od pjevačice te vokal koji je jedi
 nstven i poseban".&nbsp\;\n\nIvana je koncertna umjetnica\, sa diplomom i 
 stipendijom ponajbolje svjetske akademije Royal College of Music\, London\
 , bogatog iskustva u zemlji i izvan (Norveška\, Njemačka\, Belgija\, Ita
 lija\, Francuska\, Engleska\, SAD\, Austrija\, Kenija\, Mađarska\, Sloven
 ija\, Finska...). Nastupala je u mnogim dvoranama\, od male i velike dvora
 ne Lisinski do Carnegie Halla\, bila i finalistica nekih opernih natjecanj
 a. Jedna je od onih rijetkih vokala kojima žanrovska svestranost nije str
 ana\, od klasike preko gospela\, soula\, funka\, folka i countryja\,&nbsp\
 ; tradicionalne "world music" pjesme\, rock bluesa\, ali i jazza i pop art
 a. Bavi se i uspješno vokalnom pedagogijom kao specijalist za vokalne ža
 nrove\, mjuzikli i CCM styles (moderni žanrovi i jazz). Usavršava se na 
 Estill Voice. Radi i autorsku glazbu\, u suradnji sa engleskim tekstopisce
 m Peteom Feensterom\, a uskoro izlazi i pjesma "Out of this world" u surad
 nji sa Borisom Zambom i Voodoo Ramble (UK rock blues glazbena scena).\n\nS
 nažne i uvjerljive vokalne interpretacije\, improvizacije i kreativnosti\
 , savršene intonacije\, ekspresije i boje vokala Ivana malo koga ostavlja
  ravnodušnim.\n\nSastav čine Darko Horvat\, Neven Resnik\, Mario Jagec t
 e Filip Šmit.\n\nUlaznice možete kupiti online ili na blagajnama kazali
 šta Komedija.
ATTACH;FMTTYPE=image/jpeg:https://dev.komedija.hr/www/wp-content/uploads/2
 022/11/gospelPLAKAT.jpg
CATEGORIES:KLUB KAZALIŠTA KOMEDIJA (Cesarčeva 2)
END:VEVENT
BEGIN:VTIMEZONE
TZID:Europe/Zagreb
X-LIC-LOCATION:Europe/Zagreb
BEGIN:STANDARD
DTSTART:20221030T020000
TZOFFSETFROM:+0200
TZOFFSETTO:+0100
TZNAME:CET
END:STANDARD
END:VTIMEZONE
END:VCALENDAR